BEGIN:VCALENDAR
VERSION:2.0
PRODID:-//Rachel Roberts - ECPv6.15.20//NONSGML v1.0//EN
CALSCALE:GREGORIAN
METHOD:PUBLISH
X-ORIGINAL-URL:https://rachelrobertsviola.co.uk
X-WR-CALDESC:Events for Rachel Roberts
REFRESH-INTERVAL;VALUE=DURATION:PT1H
X-Robots-Tag:noindex
X-PUBLISHED-TTL:PT1H
BEGIN:VTIMEZONE
TZID:Europe/London
BEGIN:DAYLIGHT
TZOFFSETFROM:+0000
TZOFFSETTO:+0100
TZNAME:BST
DTSTART:20230326T010000
END:DAYLIGHT
BEGIN:STANDARD
TZOFFSETFROM:+0100
TZOFFSETTO:+0000
TZNAME:GMT
DTSTART:20231029T010000
END:STANDARD
BEGIN:DAYLIGHT
TZOFFSETFROM:+0000
TZOFFSETTO:+0100
TZNAME:BST
DTSTART:20240331T010000
END:DAYLIGHT
BEGIN:STANDARD
TZOFFSETFROM:+0100
TZOFFSETTO:+0000
TZNAME:GMT
DTSTART:20241027T010000
END:STANDARD
BEGIN:DAYLIGHT
TZOFFSETFROM:+0000
TZOFFSETTO:+0100
TZNAME:BST
DTSTART:20250330T010000
END:DAYLIGHT
BEGIN:STANDARD
TZOFFSETFROM:+0100
TZOFFSETTO:+0000
TZNAME:GMT
DTSTART:20251026T010000
END:STANDARD
BEGIN:DAYLIGHT
TZOFFSETFROM:+0000
TZOFFSETTO:+0100
TZNAME:BST
DTSTART:20260329T010000
END:DAYLIGHT
BEGIN:STANDARD
TZOFFSETFROM:+0100
TZOFFSETTO:+0000
TZNAME:GMT
DTSTART:20261025T010000
END:STANDARD
END:VTIMEZONE
BEGIN:VEVENT
DTSTART;VALUE=DATE:20250206
DTEND;VALUE=DATE:20250207
DTSTAMP:20260424T111920
CREATED:20240603T173615Z
LAST-MODIFIED:20240611T190108Z
UID:4928-1738800000-1738886399@rachelrobertsviola.co.uk
SUMMARY:Music in the Round: Sheffield
DESCRIPTION:
URL:https://rachelrobertsviola.co.uk/concert/music-in-the-round-sheffield-46/
LOCATION:Upper Chapel\, Norfolk Street\, Sheffield\, S1 2JD\, England
CATEGORIES:Ensemble 360,Rachel Roberts
ATTACH;FMTTYPE=image/png:https://rachelrobertsviola.co.uk/wp-content/uploads/MusicintheRoundLogo-Smed-GxmLFt.tmp_.png
END:VEVENT
BEGIN:VEVENT
DTSTART;TZID=Europe/London:20241018T171500
DTEND;TZID=Europe/London:20241018T181500
DTSTAMP:20260424T111920
CREATED:20240528T162606Z
LAST-MODIFIED:20240611T190107Z
UID:4917-1729271700-1729275300@rachelrobertsviola.co.uk
SUMMARY:Oxford International Song Festival: Oxford
DESCRIPTION:with Dietrich Henschel (baritone) \nJohannes Brahms: Piano Quintet in F minor\, op. 34Arnold Schönberg: Ode to Napoleon Buonaparte\, op. 41
URL:https://rachelrobertsviola.co.uk/concert/oxford-international-song-festival-oxford-2/
LOCATION:The Levine Building\, Trinity College Oxford\, Broad Street\, Oxford\, OX1 3BH\, England
CATEGORIES:Ensemble 360,Rachel Roberts,Tim Horton
ATTACH;FMTTYPE=image/jpeg:https://rachelrobertsviola.co.uk/wp-content/uploads/Ensemble_360_Strings_Piano_Ref-6_please_credit_Kaupo_Kikkas-SMed-5OYtP8.tmp_.jpg
END:VEVENT
BEGIN:VEVENT
DTSTART;TZID=Europe/London:20241017T104500
DTEND;TZID=Europe/London:20241017T104500
DTSTAMP:20260424T111920
CREATED:20240601T172924Z
LAST-MODIFIED:20240611T190107Z
UID:4923-1729161900-1729161900@rachelrobertsviola.co.uk
SUMMARY:Music in the Round: Sheffield
DESCRIPTION:Giddy Goat
URL:https://rachelrobertsviola.co.uk/concert/music-in-the-round-sheffield-45/
LOCATION:Crucible Main House\, Crucible Theatre\, 55 Norfolk Street\, Sheffield\, S1 1DA\, England
CATEGORIES:Ensemble 360,Rachel Roberts,Robert Plane
ATTACH;FMTTYPE=image/png:https://rachelrobertsviola.co.uk/wp-content/uploads/MusicintheRoundLogo-Smed-GxmLFt.tmp_.png
END:VEVENT
BEGIN:VEVENT
DTSTART;TZID=Europe/London:20241003T193000
DTEND;TZID=Europe/London:20241003T193000
DTSTAMP:20260424T111920
CREATED:20240608T181447Z
LAST-MODIFIED:20240611T190106Z
UID:4937-1727983800-1727983800@rachelrobertsviola.co.uk
SUMMARY:Chichester Chamber Concerts: Chichester
DESCRIPTION:Sergei Prokofiev: Overture on Hebrew Themes\, op. 34\nWolfgang Amadeus Mozart: Clarinet Quintet in A major\, K. 581\nInterval\nRobert Schumann: Piano Quintet in E flat major\, op. 44
URL:https://rachelrobertsviola.co.uk/concert/chichester-chamber-concerts-chichester/
LOCATION:Assembly Room\, Chichester\, North Street\, Chichester\, PO19 1LQ\, England
CATEGORIES:Ensemble 360,Rachel Roberts,Robert Plane,Tim Horton
ATTACH;FMTTYPE=image/jpeg:https://rachelrobertsviola.co.uk/wp-content/uploads/Ensemble_360_Strings_Piano_Ref-2_please_credit_Kaupo_Kikkas-SMed-OGoIHG.tmp_.jpg
ORGANIZER;CN="Chichester Chamber Concerts":MAILTO:box.office@cft.org.uk
END:VEVENT
BEGIN:VEVENT
DTSTART;TZID=Europe/London:20240522T191500
DTEND;TZID=Europe/London:20240522T191500
DTSTAMP:20260424T111920
CREATED:20240411T192608Z
LAST-MODIFIED:20240522T233046Z
UID:4800-1716405300-1716405300@rachelrobertsviola.co.uk
SUMMARY:Sheffield Chamber Music Festival: Sheffield
DESCRIPTION:French Gems \nMaurice Ravel: Berceuse sur le nom de Gabriel FauréCamille Saint-Saëns: Oboe Sonata in D major\, op. 166Thomas Adès: Alchymia for clarinet quintetIntervalAndré Messager: Solo de Concours for solo clarinetCésar Franck: Piano Quintet in F minor
URL:https://rachelrobertsviola.co.uk/concert/sheffield-chamber-music-festival-sheffield-34/
LOCATION:Crucible Playhouse\, Crucible Theatre\, 55 Norfolk Street\, Sheffield\, S1 1DA\, England
CATEGORIES:Ensemble 360,Rachel Roberts,Robert Plane,Tim Horton
ATTACH;FMTTYPE=image/jpeg:https://rachelrobertsviola.co.uk/wp-content/uploads/Sheffield-Chamber-Music-Festival-2024-Mpaeaa.tmp_.jpg
END:VEVENT
BEGIN:VEVENT
DTSTART;TZID=Europe/London:20240522T191500
DTEND;TZID=Europe/London:20240522T191500
DTSTAMP:20260424T111920
CREATED:20240410T192659Z
LAST-MODIFIED:20240522T233046Z
UID:4787-1716405300-1716405300@rachelrobertsviola.co.uk
SUMMARY:Sheffield Chamber Music Festival: Sheffield
DESCRIPTION:French Gems \nMaurice Ravel: Berceuse sur le nom de Gabriel FauréCamille Saint-Saëns: Oboe Sonata in D major\, op. 166Thomas Adès: Alchymia for clarinet quintetIntervalAndré Messager: Solo de Concours for solo clarinetCésar Franck: Piano Quintet in F minor
URL:https://rachelrobertsviola.co.uk/concert/sheffield-chamber-music-festival-sheffield-28/
LOCATION:Crucible Playhouse\, Crucible Theatre\, 55 Norfolk Street\, Sheffield\, S1 1DA\, England
CATEGORIES:Ensemble 360,Rachel Roberts,Robert Plane,Tim Horton
ATTACH;FMTTYPE=image/jpeg:https://rachelrobertsviola.co.uk/wp-content/uploads/Sheffield-Chamber-Music-Festival-2024-Mpaeaa.tmp_.jpg
END:VEVENT
BEGIN:VEVENT
DTSTART;TZID=Europe/London:20240521T191500
DTEND;TZID=Europe/London:20240521T191500
DTSTAMP:20260424T111920
CREATED:20240410T192658Z
LAST-MODIFIED:20240521T233214Z
UID:4786-1716318900-1716318900@rachelrobertsviola.co.uk
SUMMARY:Sheffield Chamber Music Festival: Sheffield
DESCRIPTION:Saint-Saëns. The Renaissance Man  \nSaint-Saëns: Morceau de concert for horn and piano Bassoon SonataLes odeurs de Paris L’assassinat du duc de guiseThe Carnival of the Animals \nCamille Saint-Saëns’ most celebrated work\, ‘The Carnival of the Animals’ is a work unlike any other\, transporting the listener into a musical menagerie that includes a swan\, a tortoise\, lions and a plunge into a truly magical aquarium. It is presented here alongside rarely performed pieces including ‘Les odeurs de Paris’\, a musical riot\, with the addition of trumpets and children’s toys to convey the many smells of Paris. Early French film The Assassination of the Duke of Guise is one of the very first to feature an original film score. Written by Saint-Saëns\, the music will be performed live alongside a screening of the film in a celebration of the beloved French composer.
URL:https://rachelrobertsviola.co.uk/concert/sheffield-chamber-music-festival-sheffield-27/
LOCATION:Crucible Playhouse\, Crucible Theatre\, 55 Norfolk Street\, Sheffield\, S1 1DA\, England
CATEGORIES:Ensemble 360,Rachel Roberts,Robert Plane,Tim Horton
ATTACH;FMTTYPE=image/jpeg:https://rachelrobertsviola.co.uk/wp-content/uploads/Sheffield-Chamber-Music-Festival-2024-Mpaeaa.tmp_.jpg
END:VEVENT
BEGIN:VEVENT
DTSTART;TZID=Europe/London:20240521T130000
DTEND;TZID=Europe/London:20240521T130000
DTSTAMP:20260424T111920
CREATED:20240410T192658Z
LAST-MODIFIED:20240521T233214Z
UID:4785-1716296400-1716296400@rachelrobertsviola.co.uk
SUMMARY:Sheffield Chamber Music Festival: Sheffield
DESCRIPTION:Relaxed Concert: Carnival \nSaint-Saëns: Morceau de concert for horn and pianoSaint-Saëns: Bassoon Sonata Saint-Saëns: The Carnival of the Animals \nFor this ‘Relaxed’ concert featuring ‘The Carnival of the Animals’\, doors will be left open\, lights raised\, a break-out space provided\, and there will be less emphasis on the audience being quiet during the performance. People with an Autism Spectrum\, sensory or communication disorder or learning disability\, those with age-related impairments and parents/carers with babies are all especially welcome.
URL:https://rachelrobertsviola.co.uk/concert/sheffield-chamber-music-festival-sheffield-26/
LOCATION:Crucible Playhouse\, Crucible Theatre\, 55 Norfolk Street\, Sheffield\, S1 1DA\, England
CATEGORIES:Ensemble 360,Rachel Roberts,Robert Plane,Tim Horton
ATTACH;FMTTYPE=image/jpeg:https://rachelrobertsviola.co.uk/wp-content/uploads/Sheffield-Chamber-Music-Festival-2024-Mpaeaa.tmp_.jpg
END:VEVENT
BEGIN:VEVENT
DTSTART;TZID=Europe/London:20240520T143000
DTEND;TZID=Europe/London:20240520T143000
DTSTAMP:20260424T111920
CREATED:20240410T192658Z
LAST-MODIFIED:20240520T233217Z
UID:4784-1716215400-1716215400@rachelrobertsviola.co.uk
SUMMARY:Sheffield Chamber Music Festival: Sheffield
DESCRIPTION:Mozart and SchubertElla Taylor\, Robin Ireland & Ensemble 360 \nMozart: Ach\, ich fühl’s! (from The Magic Flute) Mozart : String Quintet No.4 in G minor K516 Trad.  Se solen sjunker (Swedish folksong)Schubert :Piano Trio No.2 in E flat  \nMusic in the Round is delighted to welcome Robin Ireland back to the Crucible\, a venue he knows so well from his years as violist with the Lindsay String Quartet.   \nRobin will join Ensemble 360 for one of Mozart’s finest chamber works\, his String Quintet in G minor. It’s a work that’s rich in drama\, the hallmark of one of the greatest opera composers\, and a delicate aria from Mozart’s The Magic Flute will lead straight into the Quintet.  \nSchubert’s Second Piano Trio was one of the final pieces he completed before his death at the young age of 31. It’s a work of incredible emotional depth\, with its most famous melody\, frequently used in soundtracks for film and television\, inspired by a traditional Swedish folksong.
URL:https://rachelrobertsviola.co.uk/concert/sheffield-chamber-music-festival-sheffield-25/
LOCATION:Crucible Playhouse\, Crucible Theatre\, 55 Norfolk Street\, Sheffield\, S1 1DA\, England
CATEGORIES:Ensemble 360,Rachel Roberts,Tim Horton
ATTACH;FMTTYPE=image/jpeg:https://rachelrobertsviola.co.uk/wp-content/uploads/Sheffield-Chamber-Music-Festival-2024-Mpaeaa.tmp_.jpg
END:VEVENT
BEGIN:VEVENT
DTSTART;TZID=Europe/London:20240518T103000
DTEND;TZID=Europe/London:20240518T103000
DTSTAMP:20260424T111920
CREATED:20240411T192607Z
LAST-MODIFIED:20240518T225601Z
UID:4795-1716028200-1716028200@rachelrobertsviola.co.uk
SUMMARY:Sheffield Chamber Music Festival: Sheffield
DESCRIPTION:Paul Rissmann: Sir Scallywag and The Battle Of Stinky Bottom; Giles Andreae (words)\, Korky Paul (illustrations)
URL:https://rachelrobertsviola.co.uk/concert/sheffield-chamber-music-festival-sheffield-33/
LOCATION:Crucible Main House\, Crucible Theatre\, 55 Norfolk Street\, Sheffield\, S1 1DA\, England
CATEGORIES:Ensemble 360,Rachel Roberts,Robert Plane
ATTACH;FMTTYPE=image/jpeg:https://rachelrobertsviola.co.uk/wp-content/uploads/Sheffield-Chamber-Music-Festival-2024-Mpaeaa.tmp_.jpg
END:VEVENT
BEGIN:VEVENT
DTSTART;TZID=Europe/London:20240517T190000
DTEND;TZID=Europe/London:20240517T190000
DTSTAMP:20260424T111920
CREATED:20240411T192607Z
LAST-MODIFIED:20240517T224911Z
UID:4794-1715972400-1715972400@rachelrobertsviola.co.uk
SUMMARY:Sheffield Chamber Music Festival: Sheffield
DESCRIPTION:Festival Launch  \nGabriel Fauré: Piano Quartet no. 2 in G minor\, op. 45Louise Farrenc: Nonet\, op. 38
URL:https://rachelrobertsviola.co.uk/concert/sheffield-chamber-music-festival-sheffield-32/
LOCATION:Crucible Playhouse\, Crucible Theatre\, 55 Norfolk Street\, Sheffield\, S1 1DA\, England
CATEGORIES:Ensemble 360,Rachel Roberts,Robert Plane,Tim Horton
ATTACH;FMTTYPE=image/jpeg:https://rachelrobertsviola.co.uk/wp-content/uploads/Sheffield-Chamber-Music-Festival-2024-Mpaeaa.tmp_.jpg
END:VEVENT
BEGIN:VEVENT
DTSTART;TZID=Europe/London:20240505T193000
DTEND;TZID=Europe/London:20240505T193000
DTSTAMP:20260424T111920
CREATED:20240317T172018Z
LAST-MODIFIED:20240505T214218Z
UID:4725-1714937400-1714937400@rachelrobertsviola.co.uk
SUMMARY:Music in the Round: Wiltshire
DESCRIPTION:Josef Suk: Meditation on an Old Czech Hymn ‘St Wenceslas’\, op. 35aSamuel Coleridge-Taylor: Clarinet Quintet in F sharp minor\, op. 10IntervalHerbert Howells: Rhapsodic Quintet\, op\, 31Antonin Dvořák: Quartet no. 12 in F major\, op. 96\, B. 179\, American
URL:https://rachelrobertsviola.co.uk/concert/music-in-the-round-wiltshire/
LOCATION:Wiltshire Music Centre\, Ashley Road\, Bradford-on-Avon\, Wiltshire\, BA15 1DZ\, England
CATEGORIES:Ensemble 360,Rachel Roberts,Robert Plane
ATTACH;FMTTYPE=image/png:https://rachelrobertsviola.co.uk/wp-content/uploads/MusicintheRoundLogo-Smed-GxmLFt.tmp_.png
END:VEVENT
BEGIN:VEVENT
DTSTART;TZID=Europe/London:20240505T140000
DTEND;TZID=Europe/London:20240505T140000
DTSTAMP:20260424T111920
CREATED:20240416T194432Z
LAST-MODIFIED:20240505T214218Z
UID:4823-1714917600-1714917600@rachelrobertsviola.co.uk
SUMMARY:Music in the Round: Wiltshire
DESCRIPTION:Paul Rissmann: The Chimpanzees of Happytown; Giles Andreae (words)\, Guy Parker-Rees (illustrations)
URL:https://rachelrobertsviola.co.uk/concert/music-in-the-round-wiltshire-2/
LOCATION:Wiltshire Music Centre\, Ashley Road\, Bradford-on-Avon\, Wiltshire\, BA15 1DZ\, England
CATEGORIES:Ensemble 360,Rachel Roberts
ATTACH;FMTTYPE=image/png:https://rachelrobertsviola.co.uk/wp-content/uploads/MusicintheRoundLogo-Smed-GxmLFt.tmp_.png
END:VEVENT
BEGIN:VEVENT
DTSTART;TZID=Europe/London:20240422T193000
DTEND;TZID=Europe/London:20240422T193000
DTSTAMP:20260424T111920
CREATED:20240317T172018Z
LAST-MODIFIED:20240422T201610Z
UID:4724-1713814200-1713814200@rachelrobertsviola.co.uk
SUMMARY:Music in the Round: Hampshire
DESCRIPTION:Igor Stravinsky: Stravinsky 3 pieces for String QuartetSamuel Coleridge-Taylor: Clarinet Quintet in F sharp minor\, op. 10IntervalFranz Schubert: Quartet in D minor\, D. 810 – Death and the Maiden
URL:https://rachelrobertsviola.co.uk/concert/music-in-the-round-hampshire-4/
LOCATION:Portsmouth Guildhall\, Guildhall Square\, Portsmouth\, Hampshire\, PO1 2AB\, England
CATEGORIES:Ensemble 360,Rachel Roberts,Robert Plane
ATTACH;FMTTYPE=image/png:https://rachelrobertsviola.co.uk/wp-content/uploads/MusicintheRoundLogo-Smed-GxmLFt.tmp_.png
END:VEVENT
BEGIN:VEVENT
DTSTART;TZID=Europe/London:20240422T133000
DTEND;TZID=Europe/London:20240422T133000
DTSTAMP:20260424T111920
CREATED:20240416T194431Z
LAST-MODIFIED:20240422T201610Z
UID:4821-1713792600-1713792600@rachelrobertsviola.co.uk
SUMMARY:Music in the Round: Hampshire
DESCRIPTION:Close Up
URL:https://rachelrobertsviola.co.uk/concert/music-in-the-round-hampshire-5/
LOCATION:Portsmouth Guildhall\, Guildhall Square\, Portsmouth\, Hampshire\, PO1 2AB\, England
CATEGORIES:Ensemble 360,Rachel Roberts
ATTACH;FMTTYPE=image/png:https://rachelrobertsviola.co.uk/wp-content/uploads/MusicintheRoundLogo-Smed-GxmLFt.tmp_.png
END:VEVENT
BEGIN:VEVENT
DTSTART;TZID=Europe/London:20240410T193000
DTEND;TZID=Europe/London:20240410T193000
DTSTAMP:20260424T111920
CREATED:20240317T172018Z
LAST-MODIFIED:20240410T192658Z
UID:4723-1712777400-1712777400@rachelrobertsviola.co.uk
SUMMARY:Music in the Round: Nottinghamshire
DESCRIPTION:Ludwig van Beethoven: Quartet no. 8 in E minor\, op. 59\, no. 2\, RasumovskyCaroline Shaw: Entr’acteIntervalAntonin Dvořák: String Quintet in G major\, op. 77
URL:https://rachelrobertsviola.co.uk/concert/music-in-the-round-nottinghamshire/
LOCATION:Mansfield Palace\, Leeming Street\, Mansfield\, Nottinghamshire\, NG18 1NJ\, England
CATEGORIES:Ensemble 360,Rachel Roberts
ATTACH;FMTTYPE=image/png:https://rachelrobertsviola.co.uk/wp-content/uploads/MusicintheRoundLogo-Smed-GxmLFt.tmp_.png
END:VEVENT
BEGIN:VEVENT
DTSTART;TZID=Europe/London:20240404T191500
DTEND;TZID=Europe/London:20240404T191500
DTSTAMP:20260424T111920
CREATED:20240317T172018Z
LAST-MODIFIED:20240404T190354Z
UID:4721-1712258100-1712258100@rachelrobertsviola.co.uk
SUMMARY:Music in the Round: Sheffield
DESCRIPTION:Benjamin Britten: Three DivertimentiAntonin Dvořák: Quartet no. 11 in C major\, op. 61IntervalAntonin Dvořák: String Quintet no. 2 in G major\, op. 77
URL:https://rachelrobertsviola.co.uk/concert/music-in-the-round-sheffield-34/
LOCATION:Crucible Playhouse\, Crucible Theatre\, 55 Norfolk Street\, Sheffield\, S1 1DA\, England
CATEGORIES:Ensemble 360,Rachel Roberts
ATTACH;FMTTYPE=image/png:https://rachelrobertsviola.co.uk/wp-content/uploads/MusicintheRoundLogo-Smed-GxmLFt.tmp_.png
END:VEVENT
BEGIN:VEVENT
DTSTART;TZID=Europe/London:20240326T193000
DTEND;TZID=Europe/London:20240326T193000
DTSTAMP:20260424T111920
CREATED:20240317T133730Z
LAST-MODIFIED:20240326T183011Z
UID:4676-1711481400-1711481400@rachelrobertsviola.co.uk
SUMMARY:Wigmore Hall: London
DESCRIPTION:Nash EnsembleBBC SingersGeoffrey Paterson – conductorClaire Booth – sopranoRachel Roberts  – violaAdrian Brendel  – cello \nSir Harrison Birtwistle:Fantasia upon all the notes for flute\, clarinet\, string quartet and harp 3 songs from The Holy Forest for soprano and ensembleSongs by Myself for soprano and ensemble
URL:https://rachelrobertsviola.co.uk/concert/wigmore-hall-london-14/
LOCATION:Wigmore Hall\, Wigmore Street\, London\, W1U 2BP\, England
CATEGORIES:Rachel Roberts
ATTACH;FMTTYPE=image/jpeg:https://rachelrobertsviola.co.uk/wp-content/uploads/Rachel_Roberts_ref_KIK06391_Please_credit_Kaupo_Kikkas-Smed-aEux33.tmp_.jpg
END:VEVENT
BEGIN:VEVENT
DTSTART;TZID=Europe/London:20240323T190000
DTEND;TZID=Europe/London:20240323T190000
DTSTAMP:20260424T111920
CREATED:20240318T172855Z
LAST-MODIFIED:20240323T181354Z
UID:4737-1711220400-1711220400@rachelrobertsviola.co.uk
SUMMARY:Music in the Round: East Riding of Yorkshire
DESCRIPTION:Ludwig van Beethoven: Quartet no. 8 in E minor\, op. 59\, no. 2\, RasumovskyCaroline Shaw: Entr’acteLudwig van Beethoven: Quartet no. 16 in F major\, op. 135
URL:https://rachelrobertsviola.co.uk/concert/music-in-the-round-east-riding-of-yorkshire-5/
LOCATION:Junction Goole\, Paradise Place\, Goole\, East Riding of Yorkshire\, DN14 5DL\, England
CATEGORIES:Ensemble 360,Rachel Roberts
ATTACH;FMTTYPE=image/png:https://rachelrobertsviola.co.uk/wp-content/uploads/MusicintheRoundLogo-Smed-GxmLFt.tmp_.png
END:VEVENT
BEGIN:VEVENT
DTSTART;TZID=Europe/London:20240320T191500
DTEND;TZID=Europe/London:20240320T191500
DTSTAMP:20260424T111920
CREATED:20240318T172855Z
LAST-MODIFIED:20240320T174206Z
UID:4736-1710962100-1710962100@rachelrobertsviola.co.uk
SUMMARY:Music in the Round: Sheffield
DESCRIPTION:Sergey Rachmaninov: Trio Élégiaque no. 1 in G minorSergei Prokofiev: Sonata in C major\, op. 119IntervalPyotr Il’yich Tchaikovsky: Quartet no. 2 in F major\, op. 22
URL:https://rachelrobertsviola.co.uk/concert/music-in-the-round-sheffield-41/
LOCATION:Crucible Playhouse\, Crucible Theatre\, 55 Norfolk Street\, Sheffield\, S1 1DA\, England
CATEGORIES:Ensemble 360,Rachel Roberts,Tim Horton
ATTACH;FMTTYPE=image/png:https://rachelrobertsviola.co.uk/wp-content/uploads/MusicintheRoundLogo-Smed-GxmLFt.tmp_.png
END:VEVENT
BEGIN:VEVENT
DTSTART;TZID=Europe/London:20240316T191500
DTEND;TZID=Europe/London:20240316T191500
DTSTAMP:20260424T111920
CREATED:20231201T150155Z
LAST-MODIFIED:20240316T114210Z
UID:4445-1710616500-1710616500@rachelrobertsviola.co.uk
SUMMARY:Music in the Round: Doncaster
DESCRIPTION:Benjamin Britten: Three DivertimentiAntonin Dvořák: Quartet no. 11 in C major\, op. 61IntervalAntonin Dvořák: String Quintet no. 2 in G major\, op. 77
URL:https://rachelrobertsviola.co.uk/concert/music-in-the-round-doncaster-3/
LOCATION:Cast\, Main Space\, Waterdale\, Doncaster\, DN1 3BU\, England
CATEGORIES:Ensemble 360,Rachel Roberts
ATTACH;FMTTYPE=image/jpeg:https://rachelrobertsviola.co.uk/wp-content/uploads/Ensemble_360_String_Quartet_Ref-1_please_credit_Kaupo_Kikkas-SMed-pedUqJ.tmp_.jpg
END:VEVENT
BEGIN:VEVENT
DTSTART;TZID=Europe/London:20240313T200000
DTEND;TZID=Europe/London:20240313T200000
DTSTAMP:20260424T111920
CREATED:20240214T224919Z
LAST-MODIFIED:20240313T111843Z
UID:4601-1710360000-1710360000@rachelrobertsviola.co.uk
SUMMARY:Music in the Round: Milton Keynes
DESCRIPTION:Wolfgang Amadeus Mozart: Trio for Violin\, Viola and Piano in E flat major\, K. 498\, KegelstattWolfgang Amadeus Mozart: Clarinet Quintet in A major\, K. 581IntervalFranz Schubert: Piano Quintet in A  major\, D. 667\, The Trout
URL:https://rachelrobertsviola.co.uk/concert/music-in-the-round-milton-keynes/
LOCATION:The Stables\, Stockwell Lane\, Wavendon\, Milton Keynes\, MK17 8LU
CATEGORIES:Ensemble 360,Rachel Roberts,Robert Plane,Tim Horton
ATTACH;FMTTYPE=image/jpeg:https://rachelrobertsviola.co.uk/wp-content/uploads/Ensemble_360_Strings_Piano_Ref-1_please_credit_Kaupo_Kikkas-sf8gNE.tmp_.jpg
END:VEVENT
BEGIN:VEVENT
DTSTART;TZID=Europe/London:20240310T150000
DTEND;TZID=Europe/London:20240310T150000
DTSTAMP:20260424T111920
CREATED:20231212T182635Z
LAST-MODIFIED:20240310T111657Z
UID:4509-1710082800-1710082800@rachelrobertsviola.co.uk
SUMMARY:Music in the Round: Leamington Spa
DESCRIPTION:Johannes Brahms: Serenade no. 1 in D major\, op. 11\, nonet version reconstructed by David WalterBohuslav Martinů: Nonet for Wind Quintet\, Violin\, Viola\, Cello and Double Bass\, H. 374IntervalErnő Dohnányi: Sextet in C major\, op. 37
URL:https://rachelrobertsviola.co.uk/concert/music-in-the-round-leamington-spa/
LOCATION:Royal Spa Centre\, Leamington Spa\, CV32 4HN\, England
CATEGORIES:Ensemble 360,Rachel Roberts,Robert Plane,Tim Horton
END:VEVENT
BEGIN:VEVENT
DTSTART;TZID=Europe/London:20240309T190000
DTEND;TZID=Europe/London:20240309T190000
DTSTAMP:20260424T111920
CREATED:20231201T150157Z
LAST-MODIFIED:20231211T182101Z
UID:4467-1710010800-1710010800@rachelrobertsviola.co.uk
SUMMARY:Music in the Round: Sheffield
DESCRIPTION:Laurence Osborn: Me and 4 Ponys\nPeter Wilson: Piano Quintet\nInterval\nRuta Vitkauskaite: Nanga\nBen Lunn: String Trio (World Premiere)
URL:https://rachelrobertsviola.co.uk/concert/music-in-the-round-sheffield-36/
LOCATION:Upper Chapel\, Norfolk Street\, Sheffield\, S1 2JD\, England
CATEGORIES:Ensemble 360,Rachel Roberts,Tim Horton
ATTACH;FMTTYPE=image/jpeg:https://rachelrobertsviola.co.uk/wp-content/uploads/Ensemble_360_Strings_Piano_Ref-3_please_credit_Kaupo_Kikkas-SMed-OhYNQW.tmp_.jpg
END:VEVENT
BEGIN:VEVENT
DTSTART;VALUE=DATE:20240309
DTEND;VALUE=DATE:20240310
DTSTAMP:20260424T111920
CREATED:20231213T184915Z
LAST-MODIFIED:20231214T190334Z
UID:4517-1709942400-1710028799@rachelrobertsviola.co.uk
SUMMARY:Wigmore Hall: London
DESCRIPTION:Nash EnsembleTheresienstadt-Terezín Day
URL:https://rachelrobertsviola.co.uk/concert/wigmore-hall-london-13/
LOCATION:Wigmore Hall\, Wigmore Street\, London\, W1U 2BP\, England
CATEGORIES:Rachel Roberts
ATTACH;FMTTYPE=image/jpeg:https://rachelrobertsviola.co.uk/wp-content/uploads/Rachel_Roberts_ref_KIK06391_Please_credit_Kaupo_Kikkas-Smed-aEux33.tmp_.jpg
END:VEVENT
BEGIN:VEVENT
DTSTART;TZID=Europe/London:20240210T193000
DTEND;TZID=Europe/London:20240210T193000
DTSTAMP:20260424T111920
CREATED:20231213T184915Z
LAST-MODIFIED:20240210T224227Z
UID:4515-1707593400-1707593400@rachelrobertsviola.co.uk
SUMMARY:Wigmore Hall: London
DESCRIPTION:Nash Ensemble \nAntonin Dvořák:Waltz in A Op. 54 No. 1Waltz in D flat Op. 54 No. 4String Sextet in A Op. 48 \nJohannes Brahms: Clarinet Quintet in B minor\, op. 115
URL:https://rachelrobertsviola.co.uk/concert/wigmore-hall-london-12/
LOCATION:Wigmore Hall\, Wigmore Street\, London\, W1U 2BP\, England
CATEGORIES:Rachel Roberts
ATTACH;FMTTYPE=image/jpeg:https://rachelrobertsviola.co.uk/wp-content/uploads/Rachel_Roberts_ref_KIK06114_Please_credit_Kaupo_Kikkas-SMed-4OrtzW.tmp_.jpg
END:VEVENT
BEGIN:VEVENT
DTSTART;TZID=Europe/London:20240208T130000
DTEND;TZID=Europe/London:20240208T130000
DTSTAMP:20260424T111920
CREATED:20231213T184913Z
LAST-MODIFIED:20240208T223542Z
UID:4514-1707397200-1707397200@rachelrobertsviola.co.uk
SUMMARY:LSO St. Lukes: London
DESCRIPTION:Nash Ensemble \nRecorded for future BBC Radio 3 Lunchtime Concert \nBirdsong in the night: the Nash Ensemble summons richly-coloured images of Spain from Joaquín Turina and Enrique Granados\, plus a flight of fantasy from the young Maurice Ravel. \nJoaquín Turina: Scéne Andalouse for Piano Sextet\, op.7\nMaurice Ravel: Violin Sonata No 1\nEnrique Granados: The Maiden and the Nightingale\nJoaquín Turina: Piano Trio No 1
URL:https://rachelrobertsviola.co.uk/concert/lso-st-lukes-london/
LOCATION:Jerwood Hall\, LSO St Lukes
CATEGORIES:Rachel Roberts
ATTACH;FMTTYPE=image/jpeg:https://rachelrobertsviola.co.uk/wp-content/uploads/Rachel_Roberts_Ref-049_please_credit_Andrei_Luca-CR-SMed-UjpHdJ.tmp_.jpg
END:VEVENT
BEGIN:VEVENT
DTSTART;TZID=Europe/London:20240121T150000
DTEND;TZID=Europe/London:20240121T150000
DTSTAMP:20260424T111920
CREATED:20231201T150154Z
LAST-MODIFIED:20240121T211238Z
UID:4444-1705849200-1705849200@rachelrobertsviola.co.uk
SUMMARY:Hexham and District Music Society: Northumberland
DESCRIPTION:Gustav Mahler: Piano Quartet Movement in A minorGabriel Fauré: Piano Quartet no. 2 in G minor\, op. 45IntervalAntonin Dvořák: Piano Quartet in E flat major\, op. 87
URL:https://rachelrobertsviola.co.uk/concert/hexham-and-district-music-society-northumberland/
LOCATION:Queen’s Hall Arts Centre\, Beaumont Street\, Northumberland\, NE46 3LS\, England
CATEGORIES:Ensemble 360,Rachel Roberts,Tim Horton
ATTACH;FMTTYPE=image/jpeg:https://rachelrobertsviola.co.uk/wp-content/uploads/Ensemble_360_Piano_Quartet_Ref-6_-please_credit_Kaupo_Kikkas_and_Music_in_the_Round-SMed.jpg
END:VEVENT
BEGIN:VEVENT
DTSTART;TZID=Europe/London:20240113T193000
DTEND;TZID=Europe/London:20240113T193000
DTSTAMP:20260424T111920
CREATED:20231201T150157Z
LAST-MODIFIED:20240113T203121Z
UID:4466-1705174200-1705174200@rachelrobertsviola.co.uk
SUMMARY:Wigmore Hall: London
DESCRIPTION:Nash Ensemble \nAlasdair Beatson\nStephanie Gonley\nJonathan Stone\nLars Anders Tomter\nRachel Roberts\nAdrian Brendel\nGemma Rosefield \nAntonin Dvořák: Cypresses B 152\, selection\nJohannes Brahms: String Sextet in B flat\, op.18\nInterval\nJosef Suk: Meditation on an Old Czech Hymn ‘St Wenceslas’\, op. 35a\nAntonin Dvořák: Piano Trio No. 4 in E minor\, op. 90\, Dumky
URL:https://rachelrobertsviola.co.uk/concert/wigmore-hall-london-11/
LOCATION:Wigmore Hall\, Wigmore Street\, London\, W1U 2BP\, England
CATEGORIES:Rachel Roberts
ATTACH;FMTTYPE=image/jpeg:https://rachelrobertsviola.co.uk/wp-content/uploads/Rachel_Roberts_ref_KIK06391_Please_credit_Kaupo_Kikkas-Smed-aEux33.tmp_.jpg
END:VEVENT
BEGIN:VEVENT
DTSTART;TZID=Europe/London:20240107T193000
DTEND;TZID=Europe/London:20240107T193000
DTSTAMP:20260424T111920
CREATED:20231201T150154Z
LAST-MODIFIED:20240107T202631Z
UID:4443-1704655800-1704655800@rachelrobertsviola.co.uk
SUMMARY:Wigmore Hall: London
DESCRIPTION:Wigmore Soloists:\nMichael Collins\nSini Simonen\nIsabelle van Keulen\nRachel Roberts\nKristina Blaumane\nAlberto Menéndez Escribano \nwith Daniel Lebhardt (piano) \nWolfgang Amadeus Mozart: Horn Quintet in E flat major\, K. 407\nWolfgang Amadeus Mozart: Clarinet Quintet in A major\, K. 581\nInterval\nJohannes Brahms: Piano Quintet in F minor\, op. 34
URL:https://rachelrobertsviola.co.uk/concert/wigmore-hall-london-10/
LOCATION:Wigmore Hall\, Wigmore Street\, London\, W1U 2BP\, England
CATEGORIES:Rachel Roberts
ATTACH;FMTTYPE=image/jpeg:https://rachelrobertsviola.co.uk/wp-content/uploads/Rachel_Roberts_ref_KIK06024_Please_credit_Kaupo_Kikkas-SMed-Yg6pqC.tmp_.jpg
END:VEVENT
END:VCALENDAR