BEGIN:VCALENDAR
VERSION:2.0
PRODID:-//Rachel Roberts - ECPv6.15.20//NONSGML v1.0//EN
CALSCALE:GREGORIAN
METHOD:PUBLISH
X-ORIGINAL-URL:https://rachelrobertsviola.co.uk
X-WR-CALDESC:Events for Rachel Roberts
REFRESH-INTERVAL;VALUE=DURATION:PT1H
X-Robots-Tag:noindex
X-PUBLISHED-TTL:PT1H
BEGIN:VTIMEZONE
TZID:Europe/London
BEGIN:DAYLIGHT
TZOFFSETFROM:+0000
TZOFFSETTO:+0100
TZNAME:BST
DTSTART:20220327T010000
END:DAYLIGHT
BEGIN:STANDARD
TZOFFSETFROM:+0100
TZOFFSETTO:+0000
TZNAME:GMT
DTSTART:20221030T010000
END:STANDARD
BEGIN:DAYLIGHT
TZOFFSETFROM:+0000
TZOFFSETTO:+0100
TZNAME:BST
DTSTART:20230326T010000
END:DAYLIGHT
BEGIN:STANDARD
TZOFFSETFROM:+0100
TZOFFSETTO:+0000
TZNAME:GMT
DTSTART:20231029T010000
END:STANDARD
BEGIN:DAYLIGHT
TZOFFSETFROM:+0000
TZOFFSETTO:+0100
TZNAME:BST
DTSTART:20240331T010000
END:DAYLIGHT
BEGIN:STANDARD
TZOFFSETFROM:+0100
TZOFFSETTO:+0000
TZNAME:GMT
DTSTART:20241027T010000
END:STANDARD
BEGIN:DAYLIGHT
TZOFFSETFROM:+0000
TZOFFSETTO:+0100
TZNAME:BST
DTSTART:20250330T010000
END:DAYLIGHT
BEGIN:STANDARD
TZOFFSETFROM:+0100
TZOFFSETTO:+0000
TZNAME:GMT
DTSTART:20251026T010000
END:STANDARD
END:VTIMEZONE
BEGIN:VEVENT
DTSTART;TZID=Europe/London:20240316T191500
DTEND;TZID=Europe/London:20240316T191500
DTSTAMP:20260424T143327
CREATED:20231201T150155Z
LAST-MODIFIED:20240316T114210Z
UID:4445-1710616500-1710616500@rachelrobertsviola.co.uk
SUMMARY:Music in the Round: Doncaster
DESCRIPTION:Benjamin Britten: Three DivertimentiAntonin Dvořák: Quartet no. 11 in C major\, op. 61IntervalAntonin Dvořák: String Quintet no. 2 in G major\, op. 77
URL:https://rachelrobertsviola.co.uk/concert/music-in-the-round-doncaster-3/
LOCATION:Cast\, Main Space\, Waterdale\, Doncaster\, DN1 3BU\, England
CATEGORIES:Ensemble 360,Rachel Roberts
ATTACH;FMTTYPE=image/jpeg:https://rachelrobertsviola.co.uk/wp-content/uploads/Ensemble_360_String_Quartet_Ref-1_please_credit_Kaupo_Kikkas-SMed-pedUqJ.tmp_.jpg
END:VEVENT
BEGIN:VEVENT
DTSTART;TZID=Europe/London:20240313T200000
DTEND;TZID=Europe/London:20240313T200000
DTSTAMP:20260424T143327
CREATED:20240214T224919Z
LAST-MODIFIED:20240313T111843Z
UID:4601-1710360000-1710360000@rachelrobertsviola.co.uk
SUMMARY:Music in the Round: Milton Keynes
DESCRIPTION:Wolfgang Amadeus Mozart: Trio for Violin\, Viola and Piano in E flat major\, K. 498\, KegelstattWolfgang Amadeus Mozart: Clarinet Quintet in A major\, K. 581IntervalFranz Schubert: Piano Quintet in A  major\, D. 667\, The Trout
URL:https://rachelrobertsviola.co.uk/concert/music-in-the-round-milton-keynes/
LOCATION:The Stables\, Stockwell Lane\, Wavendon\, Milton Keynes\, MK17 8LU
CATEGORIES:Ensemble 360,Rachel Roberts,Robert Plane,Tim Horton
ATTACH;FMTTYPE=image/jpeg:https://rachelrobertsviola.co.uk/wp-content/uploads/Ensemble_360_Strings_Piano_Ref-1_please_credit_Kaupo_Kikkas-sf8gNE.tmp_.jpg
END:VEVENT
BEGIN:VEVENT
DTSTART;TZID=Europe/London:20240310T150000
DTEND;TZID=Europe/London:20240310T150000
DTSTAMP:20260424T143327
CREATED:20231212T182635Z
LAST-MODIFIED:20240310T111657Z
UID:4509-1710082800-1710082800@rachelrobertsviola.co.uk
SUMMARY:Music in the Round: Leamington Spa
DESCRIPTION:Johannes Brahms: Serenade no. 1 in D major\, op. 11\, nonet version reconstructed by David WalterBohuslav Martinů: Nonet for Wind Quintet\, Violin\, Viola\, Cello and Double Bass\, H. 374IntervalErnő Dohnányi: Sextet in C major\, op. 37
URL:https://rachelrobertsviola.co.uk/concert/music-in-the-round-leamington-spa/
LOCATION:Royal Spa Centre\, Leamington Spa\, CV32 4HN\, England
CATEGORIES:Ensemble 360,Rachel Roberts,Robert Plane,Tim Horton
END:VEVENT
BEGIN:VEVENT
DTSTART;TZID=Europe/London:20240309T190000
DTEND;TZID=Europe/London:20240309T190000
DTSTAMP:20260424T143327
CREATED:20231201T150157Z
LAST-MODIFIED:20231211T182101Z
UID:4467-1710010800-1710010800@rachelrobertsviola.co.uk
SUMMARY:Music in the Round: Sheffield
DESCRIPTION:Laurence Osborn: Me and 4 Ponys\nPeter Wilson: Piano Quintet\nInterval\nRuta Vitkauskaite: Nanga\nBen Lunn: String Trio (World Premiere)
URL:https://rachelrobertsviola.co.uk/concert/music-in-the-round-sheffield-36/
LOCATION:Upper Chapel\, Norfolk Street\, Sheffield\, S1 2JD\, England
CATEGORIES:Ensemble 360,Rachel Roberts,Tim Horton
ATTACH;FMTTYPE=image/jpeg:https://rachelrobertsviola.co.uk/wp-content/uploads/Ensemble_360_Strings_Piano_Ref-3_please_credit_Kaupo_Kikkas-SMed-OhYNQW.tmp_.jpg
END:VEVENT
BEGIN:VEVENT
DTSTART;VALUE=DATE:20240309
DTEND;VALUE=DATE:20240310
DTSTAMP:20260424T143327
CREATED:20231213T184915Z
LAST-MODIFIED:20231214T190334Z
UID:4517-1709942400-1710028799@rachelrobertsviola.co.uk
SUMMARY:Wigmore Hall: London
DESCRIPTION:Nash EnsembleTheresienstadt-Terezín Day
URL:https://rachelrobertsviola.co.uk/concert/wigmore-hall-london-13/
LOCATION:Wigmore Hall\, Wigmore Street\, London\, W1U 2BP\, England
CATEGORIES:Rachel Roberts
ATTACH;FMTTYPE=image/jpeg:https://rachelrobertsviola.co.uk/wp-content/uploads/Rachel_Roberts_ref_KIK06391_Please_credit_Kaupo_Kikkas-Smed-aEux33.tmp_.jpg
END:VEVENT
BEGIN:VEVENT
DTSTART;TZID=Europe/London:20240210T193000
DTEND;TZID=Europe/London:20240210T193000
DTSTAMP:20260424T143327
CREATED:20231213T184915Z
LAST-MODIFIED:20240210T224227Z
UID:4515-1707593400-1707593400@rachelrobertsviola.co.uk
SUMMARY:Wigmore Hall: London
DESCRIPTION:Nash Ensemble \nAntonin Dvořák:Waltz in A Op. 54 No. 1Waltz in D flat Op. 54 No. 4String Sextet in A Op. 48 \nJohannes Brahms: Clarinet Quintet in B minor\, op. 115
URL:https://rachelrobertsviola.co.uk/concert/wigmore-hall-london-12/
LOCATION:Wigmore Hall\, Wigmore Street\, London\, W1U 2BP\, England
CATEGORIES:Rachel Roberts
ATTACH;FMTTYPE=image/jpeg:https://rachelrobertsviola.co.uk/wp-content/uploads/Rachel_Roberts_ref_KIK06114_Please_credit_Kaupo_Kikkas-SMed-4OrtzW.tmp_.jpg
END:VEVENT
BEGIN:VEVENT
DTSTART;TZID=Europe/London:20240208T130000
DTEND;TZID=Europe/London:20240208T130000
DTSTAMP:20260424T143327
CREATED:20231213T184913Z
LAST-MODIFIED:20240208T223542Z
UID:4514-1707397200-1707397200@rachelrobertsviola.co.uk
SUMMARY:LSO St. Lukes: London
DESCRIPTION:Nash Ensemble \nRecorded for future BBC Radio 3 Lunchtime Concert \nBirdsong in the night: the Nash Ensemble summons richly-coloured images of Spain from Joaquín Turina and Enrique Granados\, plus a flight of fantasy from the young Maurice Ravel. \nJoaquín Turina: Scéne Andalouse for Piano Sextet\, op.7\nMaurice Ravel: Violin Sonata No 1\nEnrique Granados: The Maiden and the Nightingale\nJoaquín Turina: Piano Trio No 1
URL:https://rachelrobertsviola.co.uk/concert/lso-st-lukes-london/
LOCATION:Jerwood Hall\, LSO St Lukes
CATEGORIES:Rachel Roberts
ATTACH;FMTTYPE=image/jpeg:https://rachelrobertsviola.co.uk/wp-content/uploads/Rachel_Roberts_Ref-049_please_credit_Andrei_Luca-CR-SMed-UjpHdJ.tmp_.jpg
END:VEVENT
BEGIN:VEVENT
DTSTART;TZID=Europe/London:20240121T150000
DTEND;TZID=Europe/London:20240121T150000
DTSTAMP:20260424T143327
CREATED:20231201T150154Z
LAST-MODIFIED:20240121T211238Z
UID:4444-1705849200-1705849200@rachelrobertsviola.co.uk
SUMMARY:Hexham and District Music Society: Northumberland
DESCRIPTION:Gustav Mahler: Piano Quartet Movement in A minorGabriel Fauré: Piano Quartet no. 2 in G minor\, op. 45IntervalAntonin Dvořák: Piano Quartet in E flat major\, op. 87
URL:https://rachelrobertsviola.co.uk/concert/hexham-and-district-music-society-northumberland/
LOCATION:Queen’s Hall Arts Centre\, Beaumont Street\, Northumberland\, NE46 3LS\, England
CATEGORIES:Ensemble 360,Rachel Roberts,Tim Horton
ATTACH;FMTTYPE=image/jpeg:https://rachelrobertsviola.co.uk/wp-content/uploads/Ensemble_360_Piano_Quartet_Ref-6_-please_credit_Kaupo_Kikkas_and_Music_in_the_Round-SMed.jpg
END:VEVENT
BEGIN:VEVENT
DTSTART;TZID=Europe/London:20240113T193000
DTEND;TZID=Europe/London:20240113T193000
DTSTAMP:20260424T143327
CREATED:20231201T150157Z
LAST-MODIFIED:20240113T203121Z
UID:4466-1705174200-1705174200@rachelrobertsviola.co.uk
SUMMARY:Wigmore Hall: London
DESCRIPTION:Nash Ensemble \nAlasdair Beatson\nStephanie Gonley\nJonathan Stone\nLars Anders Tomter\nRachel Roberts\nAdrian Brendel\nGemma Rosefield \nAntonin Dvořák: Cypresses B 152\, selection\nJohannes Brahms: String Sextet in B flat\, op.18\nInterval\nJosef Suk: Meditation on an Old Czech Hymn ‘St Wenceslas’\, op. 35a\nAntonin Dvořák: Piano Trio No. 4 in E minor\, op. 90\, Dumky
URL:https://rachelrobertsviola.co.uk/concert/wigmore-hall-london-11/
LOCATION:Wigmore Hall\, Wigmore Street\, London\, W1U 2BP\, England
CATEGORIES:Rachel Roberts
ATTACH;FMTTYPE=image/jpeg:https://rachelrobertsviola.co.uk/wp-content/uploads/Rachel_Roberts_ref_KIK06391_Please_credit_Kaupo_Kikkas-Smed-aEux33.tmp_.jpg
END:VEVENT
BEGIN:VEVENT
DTSTART;TZID=Europe/London:20240107T193000
DTEND;TZID=Europe/London:20240107T193000
DTSTAMP:20260424T143327
CREATED:20231201T150154Z
LAST-MODIFIED:20240107T202631Z
UID:4443-1704655800-1704655800@rachelrobertsviola.co.uk
SUMMARY:Wigmore Hall: London
DESCRIPTION:Wigmore Soloists:\nMichael Collins\nSini Simonen\nIsabelle van Keulen\nRachel Roberts\nKristina Blaumane\nAlberto Menéndez Escribano \nwith Daniel Lebhardt (piano) \nWolfgang Amadeus Mozart: Horn Quintet in E flat major\, K. 407\nWolfgang Amadeus Mozart: Clarinet Quintet in A major\, K. 581\nInterval\nJohannes Brahms: Piano Quintet in F minor\, op. 34
URL:https://rachelrobertsviola.co.uk/concert/wigmore-hall-london-10/
LOCATION:Wigmore Hall\, Wigmore Street\, London\, W1U 2BP\, England
CATEGORIES:Rachel Roberts
ATTACH;FMTTYPE=image/jpeg:https://rachelrobertsviola.co.uk/wp-content/uploads/Rachel_Roberts_ref_KIK06024_Please_credit_Kaupo_Kikkas-SMed-Yg6pqC.tmp_.jpg
END:VEVENT
BEGIN:VEVENT
DTSTART;TZID=Europe/London:20231208T190000
DTEND;TZID=Europe/London:20231208T190000
DTSTAMP:20260424T143327
CREATED:20231201T150156Z
LAST-MODIFIED:20231208T162601Z
UID:4465-1702062000-1702062000@rachelrobertsviola.co.uk
SUMMARY:Music in the Round: Sheffield
DESCRIPTION:Henri Vieuxtemps: Viola Sonata in B flat major\, op. 36Rebecca Clarke: Viola Sonata
URL:https://rachelrobertsviola.co.uk/concert/music-in-the-round-sheffield-35/
LOCATION:Upper Chapel\, Norfolk Street\, Sheffield\, S1 2JD\, England
CATEGORIES:Ensemble 360,Rachel Roberts,Tim Horton
ATTACH;FMTTYPE=image/jpeg:https://rachelrobertsviola.co.uk/wp-content/uploads/Rachel_Roberts_and_Tim_Horton_Ref-085_please_credit_Andrei_Luca-SMed-fmFdZ8.tmp_.jpg
END:VEVENT
BEGIN:VEVENT
DTSTART;TZID=Europe/London:20231208T130000
DTEND;TZID=Europe/London:20231208T130000
DTSTAMP:20260424T143327
CREATED:20231201T150154Z
LAST-MODIFIED:20231208T162559Z
UID:4442-1702040400-1702040400@rachelrobertsviola.co.uk
SUMMARY:Music in the Round: Sheffield
DESCRIPTION:Henri Vieuxtemps: Viola Sonata in B flat major\, op. 36Rebecca Clarke: Viola Sonata
URL:https://rachelrobertsviola.co.uk/concert/music-in-the-round-sheffield-3/
LOCATION:Upper Chapel\, Norfolk Street\, Sheffield\, S1 2JD\, England
CATEGORIES:Ensemble 360,Rachel Roberts,Tim Horton
ATTACH;FMTTYPE=image/jpeg:https://rachelrobertsviola.co.uk/wp-content/uploads/Rachel_Roberts_Ref-049_please_credit_Andrei_Luca-CR-SMed-UjpHdJ.tmp_.jpg
END:VEVENT
BEGIN:VEVENT
DTSTART;TZID=Europe/London:20231130T191500
DTEND;TZID=Europe/London:20231130T191500
DTSTAMP:20260424T143327
CREATED:20231113T093102Z
LAST-MODIFIED:20231130T135125Z
UID:4351-1701371700-1701371700@rachelrobertsviola.co.uk
SUMMARY:Music in the Round: Sheffield
DESCRIPTION:Louis Spohr: Nonet in F Major\, op. 31Franz Schubert: Octet in F major\, D. 803
URL:https://rachelrobertsviola.co.uk/concert/music-in-the-round-sheffield-2/
LOCATION:Crucible Playhouse\, Crucible Theatre\, 55 Norfolk Street\, Sheffield\, S1 1DA\, England
CATEGORIES:Ensemble 360,Rachel Roberts,Robert Plane
ATTACH;FMTTYPE=image/png:https://rachelrobertsviola.co.uk/wp-content/uploads/Ensemble-360-Logo-Jvu0nv.tmp_.png
END:VEVENT
BEGIN:VEVENT
DTSTART;TZID=Europe/London:20231123T191500
DTEND;TZID=Europe/London:20231123T191500
DTSTAMP:20260424T143327
CREATED:20231113T093102Z
LAST-MODIFIED:20231123T123750Z
UID:4350-1700766900-1700766900@rachelrobertsviola.co.uk
SUMMARY:Music in the Round: Sheffield
DESCRIPTION:Franz Joseph Haydn: Quartet no. 25 in C major\, op. 20\, no. 2\, Hob.III:32Dmitry Shostakovich: Quartet no. 8 in C minor\, op. 110IntervalPyotr Il’yich Tchaikovsky: Quartet no. 2 in F major\, op. 22
URL:https://rachelrobertsviola.co.uk/concert/music-in-the-round-sheffield/
LOCATION:Crucible Playhouse\, Crucible Theatre\, 55 Norfolk Street\, Sheffield\, S1 1DA\, England
CATEGORIES:Ensemble 360,Rachel Roberts
ATTACH;FMTTYPE=image/png:https://rachelrobertsviola.co.uk/wp-content/uploads/Ensemble-360-Logo-Jvu0nv.tmp_.png
END:VEVENT
BEGIN:VEVENT
DTSTART;TZID=Europe/London:20231120T193000
DTEND;TZID=Europe/London:20231120T193000
DTSTAMP:20260424T143327
CREATED:20231113T093102Z
LAST-MODIFIED:20231120T114907Z
UID:4349-1700508600-1700508600@rachelrobertsviola.co.uk
SUMMARY:Music in the Round: Hampshire
DESCRIPTION:Sergey Rachmaninov: Trio Élégiaque no. 1 in G minor\nSergei Prokofiev: Quintet in G minor\, op. 39\nInterval\nSergei Prokofiev: Overture on Hebrew Themes\, op. 34\nPyotr Il’yich Tchaikovsky: Quartet no. 2 in F major\, op. 22
URL:https://rachelrobertsviola.co.uk/concert/music-in-the-round-hampshire/
LOCATION:Portsmouth Guildhall\, Guildhall Square\, Portsmouth\, Hampshire\, PO1 2AB\, England
CATEGORIES:Ensemble 360,Rachel Roberts,Robert Plane
ATTACH;FMTTYPE=image/png:https://rachelrobertsviola.co.uk/wp-content/uploads/Ensemble-360-Logo-Jvu0nv.tmp_.png
END:VEVENT
BEGIN:VEVENT
DTSTART;TZID=Europe/London:20231116T190000
DTEND;TZID=Europe/London:20231116T190000
DTSTAMP:20260424T143327
CREATED:20231113T093102Z
LAST-MODIFIED:20231116T101135Z
UID:4348-1700161200-1700161200@rachelrobertsviola.co.uk
SUMMARY:Music in the Round: East Riding of Yorkshire
DESCRIPTION:Max Bruch: Selection from 8 Pieces for clarinet\, viola and piano\, op. 83\nRobert Schumann: Fantasiestücke\, op. 73\nWolfgang Amadeus Mozart: Trio for Clarinet\, Viola and Piano in E flat\, K. 498\, Kegelstatt
URL:https://rachelrobertsviola.co.uk/concert/music-in-the-round-east-riding-of-yorkshire/
LOCATION:Junction Goole\, Paradise Place\, Goole\, East Riding of Yorkshire\, DN14 5DL\, England
CATEGORIES:Ensemble 360,Rachel Roberts,Robert Plane,Tim Horton,Trio Meister Raro
ATTACH;FMTTYPE=image/jpeg:https://rachelrobertsviola.co.uk/wp-content/uploads/Trio_Meister_Raro_Ref-197_please_credit_Andrei_Luca-CR-NPsmDr.tmp_.jpg
END:VEVENT
BEGIN:VEVENT
DTSTART;TZID=Europe/London:20231109T193000
DTEND;TZID=Europe/London:20231109T193000
DTSTAMP:20260424T143327
CREATED:20231007T182342Z
LAST-MODIFIED:20231109T104518Z
UID:4224-1699558200-1699558200@rachelrobertsviola.co.uk
SUMMARY:Carlisle Music Society:  Carlisle
DESCRIPTION:Max Bruch: Selection from 8 Pieces for clarinet\, viola and piano\, op. 83\nGyörgy Kurtág: Hommage à Robert Schumann\, op. 15d\nRobert Schumann: Märchenbilder\, op. 113\nInterval\nRebecca Clarke: Prelude\, Allegro and Pastorale\nWolfgang Amadeus Mozart: Trio for Clarinet\, Viola and Piano in E flat\, K. 498\, Kegelstatt
URL:https://rachelrobertsviola.co.uk/concert/carlisle-music-society-carlisle-2/
LOCATION:The Fratry\, Carlisle Cathedral\, 7 Abbey Street\, Carlisle\, CA3 8TZ\, England
CATEGORIES:Rachel Roberts,Robert Plane,Tim Horton,Trio Meister Raro
ATTACH;FMTTYPE=image/jpeg:https://rachelrobertsviola.co.uk/wp-content/uploads/Trio_Meister_Raro_Ref-197_please_credit_Andrei_Luca-CR-NPsmDr.tmp_.jpg
END:VEVENT
BEGIN:VEVENT
DTSTART;TZID=Europe/London:20231109T193000
DTEND;TZID=Europe/London:20231109T193000
DTSTAMP:20260424T143327
CREATED:20231006T180843Z
LAST-MODIFIED:20231006T180843Z
UID:4200-1699558200-1699558200@rachelrobertsviola.co.uk
SUMMARY:Carlisle Music Society: Carlisle
DESCRIPTION:Max Bruch: Selection from 8 Pieces for clarinet\, viola and piano\, op. 83\nGyörgy Kurtág: Hommage à Robert Schumann\, op. 15d\nRobert Schumann: Märchenbilder\, op. 113\nInterval\nRebecca Clarke: Prelude\, Allegro and Pastorale\nWolfgang Amadeus Mozart: Trio for Clarinet\, Viola and Piano in E flat\, K. 498\, Kegelstatt
URL:https://rachelrobertsviola.co.uk/concert/carlisle-music-society-carlisle/
LOCATION:Milton Keynes
CATEGORIES:Rachel Roberts,Robert Plane,Tim Horton,Trio Meister Raro
ATTACH;FMTTYPE=image/jpeg:https://rachelrobertsviola.co.uk/wp-content/uploads/Trio_Meister_Raro_Ref-075_please_credit_Andrei_Luca-1-zPak3Y.tmp_.jpg
END:VEVENT
BEGIN:VEVENT
DTSTART;TZID=Europe/London:20231105T200000
DTEND;TZID=Europe/London:20231105T200000
DTSTAMP:20260424T143327
CREATED:20231103T101156Z
LAST-MODIFIED:20231105T102401Z
UID:4324-1699214400-1699214400@rachelrobertsviola.co.uk
SUMMARY:Teatro Municipale Giuseppe Verdi di Salerno: Salerno
DESCRIPTION:Chamber Principals of London: Sergey Levitin\, Melissa Carstairs\, Rachel Roberts\, Konstantin Boyarsky\, Kristina Blaumane and Gundula Leitner \nRichard Strauss: String Sextet from CapriccioGiuseppe Verdi: String Quartet in E minorPyotr Il’yich Tchaikovsky: String Sextet in D minor\, op.70\, Souvenir de Florence
URL:https://rachelrobertsviola.co.uk/concert/teatro-municipale-giuseppe-verdi-di-salerno-salerno/
LOCATION:Teatro Municipale Giuseppe Verdi di Salerno\, Piazza Matteo Luciani\, 23\, Salerno\, 84121 Salerno SA\, Italy
CATEGORIES:Rachel Roberts
ATTACH;FMTTYPE=image/jpeg:https://rachelrobertsviola.co.uk/wp-content/uploads/Rachel_Roberts_ref_KIK06391_Please_credit_Kaupo_Kikkas-76Bthy.tmp_.jpg
END:VEVENT
BEGIN:VEVENT
DTSTART;TZID=Europe/London:20231021T193000
DTEND;TZID=Europe/London:20231021T193000
DTSTAMP:20260424T143327
CREATED:20231006T180843Z
LAST-MODIFIED:20231021T213309Z
UID:4199-1697916600-1697916600@rachelrobertsviola.co.uk
SUMMARY:Richmondshire Concerts: Richmond
DESCRIPTION:Max Bruch: 3 pieces from 8 Pieces for Clarinet\, Viola and Piano\, op. 83György Kurtág: Hommage à Robert Schumann\, op. 15dRobert Schumann: Märchenbilder\, op. 113IntervalRebecca Clarke: Prelude\, Allegro and PastoraleWolfgang Amadeus Mozart: Trio for Clarinet\, Viola and Piano in E flat\, K. 498\, Kegelstatt
URL:https://rachelrobertsviola.co.uk/concert/richmondshire-concerts-richmond/
LOCATION:Richmond School\, Darlington Road\, Richmond\, DL10 7BQ\, England
CATEGORIES:Rachel Roberts,Robert Plane,Tim Horton,Trio Meister Raro
ATTACH;FMTTYPE=image/jpeg:https://rachelrobertsviola.co.uk/wp-content/uploads/Trio_Meister_Raro_Ref-075_please_credit_Andrei_Luca-1-zPak3Y.tmp_.jpg
END:VEVENT
BEGIN:VEVENT
DTSTART;TZID=Europe/London:20231019T130000
DTEND;TZID=Europe/London:20231019T130000
DTSTAMP:20260424T143327
CREATED:20231006T180843Z
LAST-MODIFIED:20231019T210947Z
UID:4198-1697720400-1697720400@rachelrobertsviola.co.uk
SUMMARY:St John the Baptist\, Leytonstone: London
DESCRIPTION:with Kaoru Wada (piano)
URL:https://rachelrobertsviola.co.uk/concert/st-john-the-baptist-leytonstone-london/
LOCATION:St John the Baptist\, Leytonstone\, High Road\, Leytonstone\, London\, E11 1HH\, England
CATEGORIES:Rachel Roberts
ATTACH;FMTTYPE=image/jpeg:https://rachelrobertsviola.co.uk/wp-content/uploads/Rachel_Roberts_ref_KIK06391_Please_credit_Kaupo_Kikkas-76Bthy.tmp_.jpg
END:VEVENT
BEGIN:VEVENT
DTSTART;TZID=Europe/London:20231014T193000
DTEND;TZID=Europe/London:20231014T193000
DTSTAMP:20260424T143327
CREATED:20231006T180842Z
LAST-MODIFIED:20231014T192604Z
UID:4197-1697311800-1697311800@rachelrobertsviola.co.uk
SUMMARY:Music in the Round: Kent
DESCRIPTION:Josef Suk: Meditation on an Old Czech Hymn ‘St Wenceslas’\, op. 35aSamuel Coleridge-Taylor: Clarinet Quintet in F sharp minor\, op. 10IntervalHerbert Howells: Rhapsodic Quintet\, op\, 31Antonin Dvořák: Quartet no. 12 in F major\, op. 96\, B. 179\, American
URL:https://rachelrobertsviola.co.uk/concert/music-in-the-round-kent/
LOCATION:St. Peter and St. Paul’s Church\, Tonbridge\, 155 Church Lane\, Tonbridge\, Kent\, TN9 1DA\, England
CATEGORIES:Ensemble 360,Rachel Roberts,Robert Plane
ATTACH;FMTTYPE=image/png:https://rachelrobertsviola.co.uk/wp-content/uploads/Ensemble-360-Logo-Jvu0nv.tmp_.png
END:VEVENT
BEGIN:VEVENT
DTSTART;TZID=Europe/London:20231011T193000
DTEND;TZID=Europe/London:20231011T193000
DTSTAMP:20260424T143327
CREATED:20231006T180842Z
LAST-MODIFIED:20231011T185719Z
UID:4196-1697052600-1697052600@rachelrobertsviola.co.uk
SUMMARY:Ilkley Concert Club: Yorkshire
DESCRIPTION:Piatti Quartet with guests Rachel Roberts (viola) and Jonathan Aasgard (cello) \nPyotr Il’yich Tchaikovsky: String Sextet in D minor\, op.70\, Souvenir de FlorenceIntervalJohannes Brahms: String Sextet in B flat\, op.18
URL:https://rachelrobertsviola.co.uk/concert/ilkley-concert-club-yorkshire/
LOCATION:King’s Hall\, Station Road\, Ilkley\, Yorkshire\, LS29 8HB\, England
CATEGORIES:Rachel Roberts
ATTACH;FMTTYPE=image/jpeg:https://rachelrobertsviola.co.uk/wp-content/uploads/Rachel_Roberts_ref_KIK06024_Please_credit_Kaupo_Kikkas-cPyu38.tmp_.jpg
ORGANIZER;CN="Ilkley Concert Club":MAILTO:icc.jennie@gmail.com
END:VEVENT
BEGIN:VEVENT
DTSTART;TZID=Europe/London:20230930T113000
DTEND;TZID=Europe/London:20230930T113000
DTSTAMP:20260424T143327
CREATED:20230714T152956Z
LAST-MODIFIED:20230930T124029Z
UID:4045-1696073400-1696073400@rachelrobertsviola.co.uk
SUMMARY:Wigmore Hall: London
DESCRIPTION:Mieczysław Weinberg: String Trio\, op. 48 \nSonata No. 2 for violin and piano\, op. 15\nSonata for bassoon\, op. 133\nString Trio\, op. 48
URL:https://rachelrobertsviola.co.uk/concert/wigmore-hall-london-8/
LOCATION:Wigmore Hall\, Wigmore Street\, London\, W1U 2BP\, England
CATEGORIES:Rachel Roberts
ATTACH;FMTTYPE=image/jpeg:https://rachelrobertsviola.co.uk/wp-content/uploads/Rachel_Roberts_ref_KIK06024_Please_credit_Kaupo_Kikkas-cPyu38.tmp_.jpg
END:VEVENT
BEGIN:VEVENT
DTSTART;TZID=Europe/London:20230921T193000
DTEND;TZID=Europe/London:20230921T193000
DTSTAMP:20260424T143327
CREATED:20230817T121856Z
LAST-MODIFIED:20230921T100502Z
UID:4087-1695324600-1695324600@rachelrobertsviola.co.uk
SUMMARY:Wigmore Hall: London
DESCRIPTION:Wigmore Soloists\, including  \nFranz Schubert: Piano Quintet in A  major\, D. 667\, The Trout
URL:https://rachelrobertsviola.co.uk/concert/wigmore-hall-london-9/
LOCATION:Wigmore Hall\, Wigmore Street\, London\, W1U 2BP\, England
CATEGORIES:Rachel Roberts
ATTACH;FMTTYPE=image/jpeg:https://rachelrobertsviola.co.uk/wp-content/uploads/Rachel_Roberts_ref_KIK06391_Please_credit_Kaupo_Kikkas-76Bthy.tmp_.jpg
END:VEVENT
BEGIN:VEVENT
DTSTART;TZID=Europe/London:20230828T143000
DTEND;TZID=Europe/London:20230828T143000
DTSTAMP:20260424T143327
CREATED:20230706T151350Z
LAST-MODIFIED:20230828T143749Z
UID:3836-1693233000-1693233000@rachelrobertsviola.co.uk
SUMMARY:Presteigne Festival: Powys
DESCRIPTION:Rachel Roberts (viola)\nMathilde Milwidsky (violin) \nWolfgang Amadeus Mozart: Duo for Violin and Viola in G major\, K. 423\nRoxanna Panufnik: Canto\nCydonie Banting: Crane Songs\, for violin and viola\nHilary Tann: The Cresset Stone (version for solo viola)\nAdrian Sutton: Spring Masque\, for violin and viola\nRoxanna Panufnik: Hora Bessarabia\nBohuslav Martinu: Three Madrigals for violin and viola\, H313
URL:https://rachelrobertsviola.co.uk/concert/presteigne-festival-powys-3/
LOCATION:St Michael’s Church\, Discoed\, Discoed\, Near Presteigne\, Powys\, LD8 2NW\, Wales
CATEGORIES:Mathilde Milwidsky,Presteigne Festival,Rachel Roberts
ATTACH;FMTTYPE=image/jpeg:https://rachelrobertsviola.co.uk/wp-content/uploads/Presteigne-Banner-e1688573125161-CPT8y0.tmp_.jpg
ORGANIZER;CN="Presteigne Festival":MAILTO:bookings@presteignefestival.com
END:VEVENT
BEGIN:VEVENT
DTSTART;TZID=Europe/London:20230827T190000
DTEND;TZID=Europe/London:20230827T190000
DTSTAMP:20260424T143327
CREATED:20230706T151349Z
LAST-MODIFIED:20230827T141747Z
UID:3835-1693162800-1693162800@rachelrobertsviola.co.uk
SUMMARY:Presteigne Festival: Powys
DESCRIPTION:Robert Plane (clarinet)\nRachel Roberts (viola)\nChris Hopkins (piano) \nHuw Watkins: Speak Seven Seas\nJohn Hawkins: Urizen (for viola and piano)\nMichael Berkeley: Trio for clarinet\, viola and piano (world premiere)\nWitold Lutosławski: Dance Preludes\nWolfgang Amadeus Mozart: Trio for Clarinet\, Viola and Piano in E flat\, K. 498\, Kegelstatt
URL:https://rachelrobertsviola.co.uk/concert/presteigne-festival-powys-2/
LOCATION:St Andrew’s Church\, Presteigne\, Broad Street\, Powys\, LD8 2AF\, Wales
CATEGORIES:Presteigne Festival,Rachel Roberts,Robert Plane
ATTACH;FMTTYPE=image/jpeg:https://rachelrobertsviola.co.uk/wp-content/uploads/Presteigne-Banner-e1688573125161-CPT8y0.tmp_.jpg
ORGANIZER;CN="Presteigne Festival":MAILTO:bookings@presteignefestival.com
END:VEVENT
BEGIN:VEVENT
DTSTART;TZID=Europe/London:20230826T190000
DTEND;TZID=Europe/London:20230826T190000
DTSTAMP:20260424T143327
CREATED:20230706T151349Z
LAST-MODIFIED:20230826T135150Z
UID:3824-1693076400-1693076400@rachelrobertsviola.co.uk
SUMMARY:Presteigne Festival: Powys
DESCRIPTION:Rachel Roberts (viola)Mark Wilde (tenor)Alexei Watkins (horn)Julien Van Mellaerts (baritone) Choir of King’s College\, LondonFestival Orchestra George Vass (conductor) \nBenjamin Britten: Serenade for tenor\, horn and string orchestra\, Op. 31Edward Gregson: Viola Concerto (world premiere)Adrian Williams: The Innocent Fields (world premiere)Grace Williams: Sea Sketches for string orchestra
URL:https://rachelrobertsviola.co.uk/concert/presteigne-festival-powys/
LOCATION:St Andrew’s Church\, Presteigne\, Broad Street\, Powys\, LD8 2AF\, Wales
CATEGORIES:Rachel Roberts
ATTACH;FMTTYPE=image/jpeg:https://rachelrobertsviola.co.uk/wp-content/uploads/Rachel_Roberts_ref_KIK06114_Please_credit_Kaupo_Kikkas-OxmH8P.tmp_.jpg
ORGANIZER;CN="Presteigne Festival":MAILTO:bookings@presteignefestival.com
END:VEVENT
BEGIN:VEVENT
DTSTART;TZID=Europe/London:20230820T170000
DTEND;TZID=Europe/London:20230820T170000
DTSTAMP:20260424T143327
CREATED:20230706T151349Z
LAST-MODIFIED:20230820T125817Z
UID:3823-1692550800-1692550800@rachelrobertsviola.co.uk
SUMMARY:Music in the Round: Suffolk
DESCRIPTION:Frank Bridge: Quartet for Piano and Strings in F sharp minor\, H 94\, Phantasie\nFranz Schubert: Piano Quintet in A major\, D. 667\, The Trout\nInterval\nWitold Lutosławski: Dance Preludes\nBohuslav Martinů: Nonet for Wind Quintet\, Violin\, Viola\, Cello & Double Bass\, H. 374\nBenjamin Britten: Britten Sinfonietta\, Op. 1
URL:https://rachelrobertsviola.co.uk/concert/music-in-the-round-suffolk/
LOCATION:Snape Maltings\, Snape Maltings\,\, Suffolk\, IP17 1SP\, England
CATEGORIES:Ensemble 360,Rachel Roberts,Robert Plane,Tim Horton
ATTACH;FMTTYPE=image/png:https://rachelrobertsviola.co.uk/wp-content/uploads/Ensemble-360-Logo-Jvu0nv.tmp_.png
END:VEVENT
BEGIN:VEVENT
DTSTART;TZID=Europe/London:20230818T190000
DTEND;TZID=Europe/London:20230818T190000
DTSTAMP:20260424T143327
CREATED:20230706T151349Z
LAST-MODIFIED:20230818T122740Z
UID:3822-1692385200-1692385200@rachelrobertsviola.co.uk
SUMMARY:North Norfolk Music Festival: Norfolk
DESCRIPTION:Finale concert of the 18th North Norfolk Music Festival. \nIgor Stravinsky: 3 pieces for clarinet solo\nWolfgang Amadeus Mozart: Clarinet Quintet in A major\, K. 581\nInterval\nCésar Franck: Piano Quintet in F minor
URL:https://rachelrobertsviola.co.uk/concert/north-norfolk-music-festival-norfolk/
LOCATION:St. Mary’s Church\, South Creake\, Fakenham\, Norfolk\, NR21 9LX\, England
CATEGORIES:Ensemble 360,Rachel Roberts,Robert Plane,Tim Horton
ATTACH;FMTTYPE=image/png:https://rachelrobertsviola.co.uk/wp-content/uploads/Ensemble-360-Logo-Jvu0nv.tmp_.png
END:VEVENT
END:VCALENDAR