BEGIN:VCALENDAR
VERSION:2.0
PRODID:-//Rachel Roberts - ECPv6.15.20//NONSGML v1.0//EN
CALSCALE:GREGORIAN
METHOD:PUBLISH
X-WR-CALNAME:Rachel Roberts
X-ORIGINAL-URL:https://rachelrobertsviola.co.uk
X-WR-CALDESC:Events for Rachel Roberts
REFRESH-INTERVAL;VALUE=DURATION:PT1H
X-Robots-Tag:noindex
X-PUBLISHED-TTL:PT1H
BEGIN:VTIMEZONE
TZID:Europe/London
BEGIN:DAYLIGHT
TZOFFSETFROM:+0000
TZOFFSETTO:+0100
TZNAME:BST
DTSTART:20210328T010000
END:DAYLIGHT
BEGIN:STANDARD
TZOFFSETFROM:+0100
TZOFFSETTO:+0000
TZNAME:GMT
DTSTART:20211031T010000
END:STANDARD
BEGIN:DAYLIGHT
TZOFFSETFROM:+0000
TZOFFSETTO:+0100
TZNAME:BST
DTSTART:20220327T010000
END:DAYLIGHT
BEGIN:STANDARD
TZOFFSETFROM:+0100
TZOFFSETTO:+0000
TZNAME:GMT
DTSTART:20221030T010000
END:STANDARD
BEGIN:DAYLIGHT
TZOFFSETFROM:+0000
TZOFFSETTO:+0100
TZNAME:BST
DTSTART:20230326T010000
END:DAYLIGHT
BEGIN:STANDARD
TZOFFSETFROM:+0100
TZOFFSETTO:+0000
TZNAME:GMT
DTSTART:20231029T010000
END:STANDARD
BEGIN:DAYLIGHT
TZOFFSETFROM:+0000
TZOFFSETTO:+0100
TZNAME:BST
DTSTART:20240331T010000
END:DAYLIGHT
BEGIN:STANDARD
TZOFFSETFROM:+0100
TZOFFSETTO:+0000
TZNAME:GMT
DTSTART:20241027T010000
END:STANDARD
END:VTIMEZONE
BEGIN:VEVENT
DTSTART;TZID=Europe/London:20230421T193000
DTEND;TZID=Europe/London:20230421T193000
DTSTAMP:20260424T224909
CREATED:20230706T152624Z
LAST-MODIFIED:20230706T152624Z
UID:3877-1682105400-1682105400@rachelrobertsviola.co.uk
SUMMARY:Music in the Round: Barnsley
DESCRIPTION:Wolfgang Amadeus Mozart: Trio for Clarinet\, Viola and Piano in E flat\, K. 498\, KegelstattRobert Schumann: Märchenerzählungen\, op. 132György Kurtág: Hommage à Robert Schumann\, op. 15dRebecca Clarke: Prelude\, Allegro and PastoraleMax Bruch: Selection from 8 Pieces for clarinet\, viola and piano\, op. 83
URL:https://rachelrobertsviola.co.uk/concert/music-in-the-round-barnsley/
LOCATION:Emmanuel Church\, Barnsley\, Huddersfield Road\, Barnsley\, S75 1DT\, England
END:VEVENT
BEGIN:VEVENT
DTSTART;TZID=Europe/London:20230417T130000
DTEND;TZID=Europe/London:20230417T130000
DTSTAMP:20260424T224909
CREATED:20230706T152629Z
LAST-MODIFIED:20230706T152630Z
UID:3878-1681736400-1681736400@rachelrobertsviola.co.uk
SUMMARY:Wigmore Hall: London
DESCRIPTION:BBC Lunchtime Concert at Wigmore Hall  Nash Ensemble \nWolfgang Amadeus Mozart: Piano Concerto no. 14 in E flat major\, K. 449\, arranged for Piano and String QuartetGabriel Fauré: Piano Quartet no. 1 in C minor op. 15
URL:https://rachelrobertsviola.co.uk/concert/wigmore-hall-london-2/
LOCATION:Wigmore Hall\, Wigmore Street\, London\, W1U 2BP\, England
CATEGORIES:Rachel Roberts
END:VEVENT
BEGIN:VEVENT
DTSTART;VALUE=DATE:20230413
DTEND;VALUE=DATE:20230415
DTSTAMP:20260424T224909
CREATED:20230706T152629Z
LAST-MODIFIED:20230706T152630Z
UID:3879-1681344000-1681516799@rachelrobertsviola.co.uk
SUMMARY:BIS Records: Surrey
DESCRIPTION:With Wigmore Soloists
URL:https://rachelrobertsviola.co.uk/concert/bis-records-surrey/
LOCATION:The Menuhin Hall\, Cobham Road\, Stoke d'Abernon\, Surrey\, KT11 3QQ\, England
CATEGORIES:Rachel Roberts
END:VEVENT
BEGIN:VEVENT
DTSTART;TZID=Europe/London:20230318T193000
DTEND;TZID=Europe/London:20230318T193000
DTSTAMP:20260424T224909
CREATED:20230706T152629Z
LAST-MODIFIED:20230706T152630Z
UID:3880-1679167800-1679167800@rachelrobertsviola.co.uk
SUMMARY:Wigmore Hall: London
DESCRIPTION:Nash Ensemble \nRichard Strauss: String Sextet from Capriccio
URL:https://rachelrobertsviola.co.uk/concert/wigmore-hall-london-3/
LOCATION:Wigmore Hall\, Wigmore Street\, London\, W1U 2BP\, England
CATEGORIES:Rachel Roberts
END:VEVENT
BEGIN:VEVENT
DTSTART;TZID=Europe/London:20230225T193000
DTEND;TZID=Europe/London:20230225T193000
DTSTAMP:20260424T224909
CREATED:20230706T152630Z
LAST-MODIFIED:20230706T152630Z
UID:3881-1677353400-1677353400@rachelrobertsviola.co.uk
SUMMARY:Oxted & Limpsfield Music Society: Surrey
DESCRIPTION:Rachel Roberts is standing in at short notice for Timothy Ridout\, who is indisposed. Robert Schumann: Adagio and Allegro\, op. 70Franz Schubert:  Arpeggione Sonata in A minor\, D. 821Ralph Vaughan Williams: Six studies in English folksongLionel Tertis: Hier au SoirRebecca Clarke: Viola Sonata
URL:https://rachelrobertsviola.co.uk/concert/oxted-limpsfield-music-society-surrey/
LOCATION:Bawtree Concert Hall\, Hazelwood School\, Wolfs Hill\, Limpsfield\, Oxted\, Surrey\, RH8 0QU\, England
CATEGORIES:Rachel Roberts
END:VEVENT
BEGIN:VEVENT
DTSTART;TZID=Europe/London:20230212T113000
DTEND;TZID=Europe/London:20230212T113000
DTSTAMP:20260424T224909
CREATED:20230706T152630Z
LAST-MODIFIED:20230706T152630Z
UID:3882-1676201400-1676201400@rachelrobertsviola.co.uk
SUMMARY:Wigmore Hall: London
DESCRIPTION:Nash EnsembleBenjamin Nabarro (violin)\, Jonathan Stone (violin)\, Lawrence Power (viola)\, Rachel Roberts (viola)\, Adrian Brendel (cello)\, Gemma Rosefield (cello)   \nLudwig van Beethoven: String Quintet in C major\, op. 29\, StormPyotr Il’yich Tchaikovsky: String Sextet in D minor\, op.70\, Souvenir de Florence
URL:https://rachelrobertsviola.co.uk/concert/wigmore-hall-london-4/
LOCATION:Wigmore Hall\, Wigmore Street\, London\, W1U 2BP\, England
CATEGORIES:Rachel Roberts
END:VEVENT
BEGIN:VEVENT
DTSTART;TZID=Europe/London:20230210T190000
DTEND;TZID=Europe/London:20230210T190000
DTSTAMP:20260424T224909
CREATED:20230706T152644Z
LAST-MODIFIED:20230706T152645Z
UID:3889-1676055600-1676055600@rachelrobertsviola.co.uk
SUMMARY:Music in the Round: Sheffield
DESCRIPTION:Robert Schumann: Three Romances for Oboe and Piano\, op. 94Johannes Brahms: Sonata for Viola and Piano in F minor\, op. 120\, no. 1August Klughardt: 5 Schilflieder\, op. 28
URL:https://rachelrobertsviola.co.uk/concert/music-in-the-round-sheffield-5/
LOCATION:Upper Chapel\, Norfolk Street\, Sheffield\, S1 2JD\, England
CATEGORIES:Ensemble 360,Rachel Roberts,Tim Horton
END:VEVENT
BEGIN:VEVENT
DTSTART;TZID=Europe/London:20230210T150000
DTEND;TZID=Europe/London:20230210T150000
DTSTAMP:20260424T224909
CREATED:20230706T152644Z
LAST-MODIFIED:20230706T152645Z
UID:3888-1676041200-1676041200@rachelrobertsviola.co.uk
SUMMARY:Music in the Round: Sheffield
DESCRIPTION:Robert Schumann: Three Romances for Oboe & PianoJohannes Brahms: Sonata for Viola and Piano in F minor\, op. 120\, no. 1Klughardt  Five Schilflieder Op.2
URL:https://rachelrobertsviola.co.uk/concert/music-in-the-round-sheffield-4/
LOCATION:Upper Chapel\, Norfolk Street\, Sheffield\, S1 2JD\, England
CATEGORIES:Ensemble 360,Rachel Roberts,Tim Horton
END:VEVENT
BEGIN:VEVENT
DTSTART;TZID=Europe/London:20230130T193000
DTEND;TZID=Europe/London:20230130T193000
DTSTAMP:20260424T224909
CREATED:20230706T152645Z
LAST-MODIFIED:20230706T152645Z
UID:3890-1675107000-1675107000@rachelrobertsviola.co.uk
SUMMARY:Music in the Round: Hampshire
DESCRIPTION:Franz Berwald: Grand Septet in B flat majorWolfgang Amadeus Mozart: Clarinet Quintet in A major\, K. 581Ludwig van Beethoven: Septet in E flat major\, op. 20
URL:https://rachelrobertsviola.co.uk/concert/music-in-the-round-hampshire-2/
LOCATION:Portsmouth Guildhall\, Guildhall Square\, Portsmouth\, Hampshire\, PO1 2AB\, England
CATEGORIES:Ensemble 360,Rachel Roberts,Robert Plane
END:VEVENT
BEGIN:VEVENT
DTSTART;TZID=Europe/London:20230130T133000
DTEND;TZID=Europe/London:20230130T133000
DTSTAMP:20260424T224909
CREATED:20230706T152645Z
LAST-MODIFIED:20230706T152645Z
UID:3891-1675085400-1675085400@rachelrobertsviola.co.uk
SUMMARY:Music in the Round: Hampshire
DESCRIPTION:Paul Rissmann: Sir Scallywag & the Golden Underpants
URL:https://rachelrobertsviola.co.uk/concert/music-in-the-round-hampshire-3/
LOCATION:Portsmouth Guildhall\, Guildhall Square\, Portsmouth\, Hampshire\, PO1 2AB\, England
CATEGORIES:Ensemble 360,Rachel Roberts,Robert Plane
END:VEVENT
BEGIN:VEVENT
DTSTART;TZID=Europe/London:20230128T190000
DTEND;TZID=Europe/London:20230128T190000
DTSTAMP:20260424T224909
CREATED:20230706T152645Z
LAST-MODIFIED:20230706T152645Z
UID:3892-1674932400-1674932400@rachelrobertsviola.co.uk
SUMMARY:Music in the Round: Sheffield
DESCRIPTION:Igor Stravinsky: Stravinsky 3 pieces for String QuartetDmitry Shostakovich: String Quartet no. 3 in F major\, op. 73Ludwig van Beethoven: Quartet no. 16 in F major\, op. 135
URL:https://rachelrobertsviola.co.uk/concert/music-in-the-round-sheffield-6/
LOCATION:Upper Chapel\, Norfolk Street\, Sheffield\, S1 2JD\, England
CATEGORIES:Ensemble 360,Rachel Roberts
END:VEVENT
BEGIN:VEVENT
DTSTART;TZID=Europe/London:20230127T193000
DTEND;TZID=Europe/London:20230127T193000
DTSTAMP:20260424T224909
CREATED:20230706T152659Z
LAST-MODIFIED:20230706T152700Z
UID:3898-1674847800-1674847800@rachelrobertsviola.co.uk
SUMMARY:Music in the Round: Barnsley
DESCRIPTION:Igor Stravinsky: Stravinsky 3 pieces for String QuartetDmitry Shostakovich: String Quartet no. 3 in F major\, op. 73Ludwig van Beethoven: Quartet no. 16 in F major\, op. 135
URL:https://rachelrobertsviola.co.uk/concert/music-in-the-round-barnsley-2/
LOCATION:Emmanuel Church\, Barnsley\, Huddersfield Road\, Barnsley\, S75 1DT\, England
CATEGORIES:Ensemble 360,Rachel Roberts
END:VEVENT
BEGIN:VEVENT
DTSTART;TZID=Europe/London:20230121T190000
DTEND;TZID=Europe/London:20230121T190000
DTSTAMP:20260424T224909
CREATED:20230706T152659Z
LAST-MODIFIED:20230706T152700Z
UID:3899-1674327600-1674327600@rachelrobertsviola.co.uk
SUMMARY:Music in the Round: East Riding of Yorkshire
DESCRIPTION:Franz Berwald: Grand Septet in B flat majorWolfgang Amadeus Mozart: Clarinet Quintet in A major\, K. 581Ludwig van Beethoven: Septet in E flat major\, op. 20
URL:https://rachelrobertsviola.co.uk/concert/music-in-the-round-east-riding-of-yorkshire-2/
LOCATION:Junction Goole\, Paradise Place\, Goole\, East Riding of Yorkshire\, DN14 5DL\, England
CATEGORIES:Ensemble 360,Rachel Roberts
END:VEVENT
BEGIN:VEVENT
DTSTART;TZID=Europe/London:20230121T140000
DTEND;TZID=Europe/London:20230121T140000
DTSTAMP:20260424T224909
CREATED:20230706T152659Z
LAST-MODIFIED:20230706T152700Z
UID:3900-1674309600-1674309600@rachelrobertsviola.co.uk
SUMMARY:Music in the Round: East Riding of Yorkshire
DESCRIPTION:Paul Rissmann: Sir Scallywag & the Golden Underpants
URL:https://rachelrobertsviola.co.uk/concert/music-in-the-round-east-riding-of-yorkshire-3/
LOCATION:Junction Goole\, Paradise Place\, Goole\, East Riding of Yorkshire\, DN14 5DL\, England
CATEGORIES:Ensemble 360,Rachel Roberts
END:VEVENT
BEGIN:VEVENT
DTSTART;TZID=Europe/London:20221126T191500
DTEND;TZID=Europe/London:20221126T191500
DTSTAMP:20260424T224909
CREATED:20230706T152700Z
LAST-MODIFIED:20230706T152700Z
UID:3901-1669490100-1669490100@rachelrobertsviola.co.uk
SUMMARY:Music in the Round: Sheffield
DESCRIPTION:Johannes Brahms: Clarinet Quintet in B minor\, op. 115Johannes Brahms: 2 Intermezzos from Klavierstücke\, op. 119Ern? Dohnányi: Sextet in C major\, op. 37
URL:https://rachelrobertsviola.co.uk/concert/music-in-the-round-sheffield-7/
LOCATION:Crucible Playhouse\, Crucible Theatre\, 55 Norfolk Street\, Sheffield\, S1 1DA\, England
CATEGORIES:Ensemble 360,Rachel Roberts,Robert Plane,Tim Horton
END:VEVENT
BEGIN:VEVENT
DTSTART;TZID=Europe/London:20221125T193000
DTEND;TZID=Europe/London:20221125T193000
DTSTAMP:20260424T224909
CREATED:20230706T152700Z
LAST-MODIFIED:20230706T152700Z
UID:3902-1669404600-1669404600@rachelrobertsviola.co.uk
SUMMARY:Music in the Round: Barnsley
DESCRIPTION:Johannes Brahms: Clarinet Quintet in B minor\, op. 115Johannes Brahms: 2 Intermezzos from Klavierstücke\, op. 119Ern? Dohnányi: Sextet in C major\, op. 37
URL:https://rachelrobertsviola.co.uk/concert/music-in-the-round-barnsley-3/
LOCATION:Emmanuel Church\, Barnsley\, Huddersfield Road\, Barnsley\, S75 1DT\, England
CATEGORIES:Ensemble 360,Rachel Roberts,Robert Plane,Tim Horton
END:VEVENT
BEGIN:VEVENT
DTSTART;TZID=Europe/London:20221118T190000
DTEND;TZID=Europe/London:20221118T190000
DTSTAMP:20260424T224909
CREATED:20230706T152714Z
LAST-MODIFIED:20230706T152715Z
UID:3908-1668798000-1668798000@rachelrobertsviola.co.uk
SUMMARY:Music in the Round: Sheffield
DESCRIPTION:Josef Suk: Meditation on an Old Czech Hymn ‘St Wenceslas’\, op. 35aBedrich Smetana: Quartet no. 1 in E minor\, From My LifeHarry Burleigh: Two Spirituals\, arranged for string quartetAntonin Dvo?ák: Quartet no. 12 in F major\, op. 96\, B. 179\, American
URL:https://rachelrobertsviola.co.uk/concert/music-in-the-round-sheffield-8/
LOCATION:Upper Chapel\, Norfolk Street\, Sheffield\, S1 2JD\, England
CATEGORIES:Ensemble 360,Rachel Roberts
END:VEVENT
BEGIN:VEVENT
DTSTART;TZID=Europe/London:20221112T150000
DTEND;TZID=Europe/London:20221112T150000
DTSTAMP:20260424T224909
CREATED:20230706T152715Z
LAST-MODIFIED:20230706T152715Z
UID:3910-1668265200-1668265200@rachelrobertsviola.co.uk
SUMMARY:Music in the Round: Sheffield
DESCRIPTION:Paul Rissmann: Sir Scallywag & the Golden Underpants
URL:https://rachelrobertsviola.co.uk/concert/music-in-the-round-sheffield-10/
LOCATION:Crucible Main House\, Crucible Theatre\, 55 Norfolk Street\, Sheffield\, S1 1DA\, England
CATEGORIES:Ensemble 360,Rachel Roberts,Robert Plane
END:VEVENT
BEGIN:VEVENT
DTSTART;TZID=Europe/London:20221112T110000
DTEND;TZID=Europe/London:20221112T110000
DTSTAMP:20260424T224909
CREATED:20230706T152714Z
LAST-MODIFIED:20230706T152715Z
UID:3909-1668250800-1668250800@rachelrobertsviola.co.uk
SUMMARY:Music in the Round: Sheffield
DESCRIPTION:Paul Rissmann: Sir Scallywag & the Golden Underpants
URL:https://rachelrobertsviola.co.uk/concert/music-in-the-round-sheffield-9/
LOCATION:Crucible Main House\, Crucible Theatre\, 55 Norfolk Street\, Sheffield\, S1 1DA\, England
CATEGORIES:Ensemble 360,Rachel Roberts,Robert Plane
END:VEVENT
BEGIN:VEVENT
DTSTART;TZID=Europe/London:20221111T133000
DTEND;TZID=Europe/London:20221111T133000
DTSTAMP:20260424T224909
CREATED:20230706T152715Z
LAST-MODIFIED:20230706T152715Z
UID:3912-1668173400-1668173400@rachelrobertsviola.co.uk
SUMMARY:Music in the Round: Sheffield
DESCRIPTION:Paul Rissmann: Sir Scallywag & the Golden Underpants
URL:https://rachelrobertsviola.co.uk/concert/music-in-the-round-sheffield-12/
LOCATION:Crucible Main House\, Crucible Theatre\, 55 Norfolk Street\, Sheffield\, S1 1DA\, England
CATEGORIES:Ensemble 360,Rachel Roberts,Robert Plane
END:VEVENT
BEGIN:VEVENT
DTSTART;TZID=Europe/London:20221111T104500
DTEND;TZID=Europe/London:20221111T104500
DTSTAMP:20260424T224909
CREATED:20230706T152715Z
LAST-MODIFIED:20230706T152715Z
UID:3911-1668163500-1668163500@rachelrobertsviola.co.uk
SUMMARY:Music in the Round: Sheffield
DESCRIPTION:Paul Rissmann: Sir Scallywag & the Golden Underpants
URL:https://rachelrobertsviola.co.uk/concert/music-in-the-round-sheffield-11/
LOCATION:Crucible Main House\, Crucible Theatre\, 55 Norfolk Street\, Sheffield\, S1 1DA\, England
CATEGORIES:Ensemble 360,Rachel Roberts,Robert Plane
END:VEVENT
BEGIN:VEVENT
DTSTART;TZID=Europe/London:20221110T133000
DTEND;TZID=Europe/London:20221110T133000
DTSTAMP:20260424T224909
CREATED:20230706T152729Z
LAST-MODIFIED:20230706T152730Z
UID:3919-1668087000-1668087000@rachelrobertsviola.co.uk
SUMMARY:Music in the Round: Sheffield
DESCRIPTION:Paul Rissmann: Sir Scallywag & the Golden Underpants
URL:https://rachelrobertsviola.co.uk/concert/music-in-the-round-sheffield-14/
LOCATION:Crucible Main House\, Crucible Theatre\, 55 Norfolk Street\, Sheffield\, S1 1DA\, England
CATEGORIES:Ensemble 360,Rachel Roberts,Robert Plane
END:VEVENT
BEGIN:VEVENT
DTSTART;TZID=Europe/London:20221110T104500
DTEND;TZID=Europe/London:20221110T104500
DTSTAMP:20260424T224909
CREATED:20230706T152729Z
LAST-MODIFIED:20230706T152730Z
UID:3918-1668077100-1668077100@rachelrobertsviola.co.uk
SUMMARY:Music in the Round: Sheffield
DESCRIPTION:Paul Rissmann: Sir Scallywag & the Golden Underpants
URL:https://rachelrobertsviola.co.uk/concert/music-in-the-round-sheffield-13/
LOCATION:Crucible Main House\, Crucible Theatre\, 55 Norfolk Street\, Sheffield\, S1 1DA\, England
CATEGORIES:Ensemble 360,Rachel Roberts,Robert Plane
END:VEVENT
BEGIN:VEVENT
DTSTART;TZID=Europe/London:20221105T190000
DTEND;TZID=Europe/London:20221105T190000
DTSTAMP:20260424T224909
CREATED:20230706T152729Z
LAST-MODIFIED:20230706T152730Z
UID:3920-1667674800-1667674800@rachelrobertsviola.co.uk
SUMMARY:Music in the Round: Doncaster
DESCRIPTION:Ralph Vaughan Williams: The Lark AscendingRalph Vaughan Williams: Concerto for Oboe and StringsMaurice Ravel: SonatineRalph Vaughan Williams: Piano Quintet in C minor
URL:https://rachelrobertsviola.co.uk/concert/music-in-the-round-doncaster-5/
LOCATION:Cast\, Second Space\, Waterdale\, Doncaster\, DN1 3BU\, England
CATEGORIES:Ensemble 360,Rachel Roberts,Tim Horton
END:VEVENT
BEGIN:VEVENT
DTSTART;TZID=Europe/London:20221104T190000
DTEND;TZID=Europe/London:20221104T190000
DTSTAMP:20260424T224909
CREATED:20230706T152730Z
LAST-MODIFIED:20230706T152730Z
UID:3921-1667588400-1667588400@rachelrobertsviola.co.uk
SUMMARY:Music in the Round: Sheffield
DESCRIPTION:Ralph Vaughan Williams: The Lark AscendingRalph Vaughan Williams: Concerto for Oboe and StringsMaurice Ravel: Sonatine for pianoRalph Vaughan Williams: Piano Quintet in C minor
URL:https://rachelrobertsviola.co.uk/concert/music-in-the-round-sheffield-15/
LOCATION:Upper Chapel\, Norfolk Street\, Sheffield\, S1 2JD\, England
CATEGORIES:Ensemble 360,Rachel Roberts,Tim Horton
END:VEVENT
BEGIN:VEVENT
DTSTART;TZID=Europe/London:20221103T190000
DTEND;TZID=Europe/London:20221103T190000
DTSTAMP:20260424T224909
CREATED:20230706T152730Z
LAST-MODIFIED:20230706T152730Z
UID:3922-1667502000-1667502000@rachelrobertsviola.co.uk
SUMMARY:Music in the Round: East Riding of Yorkshire
DESCRIPTION:Ralph Vaughan Williams: The Lark AscendingRalph Vaughan Williams: Concerto for Oboe and StringsMaurice Ravel: Sonatine for pianoRalph Vaughan Williams: Piano Quintet in C minor
URL:https://rachelrobertsviola.co.uk/concert/music-in-the-round-east-riding-of-yorkshire-4/
LOCATION:Junction Goole\, Paradise Place\, Goole\, East Riding of Yorkshire\, DN14 5DL\, England
CATEGORIES:Ensemble 360,Rachel Roberts,Tim Horton
END:VEVENT
BEGIN:VEVENT
DTSTART;TZID=Europe/London:20221029T150000
DTEND;TZID=Europe/London:20221029T150000
DTSTAMP:20260424T224909
CREATED:20230706T152744Z
LAST-MODIFIED:20230706T152745Z
UID:3928-1667055600-1667055600@rachelrobertsviola.co.uk
SUMMARY:Chamber Music @ Clonter: Cheshire
DESCRIPTION:Richard Strauss: Till Eulenspiegel Einmal AndersAntonin Dvo?ák: String Quintet in G major\, op. 77Ludwig van Beethoven: Septet in E flat major\, op. 20
URL:https://rachelrobertsviola.co.uk/concert/chamber-music-clonter-cheshire/
LOCATION:Clonter Opera Theatre\, Swettenham Heath\, Congleton\, Cheshire\, CW12 2LR\, England
CATEGORIES:Ensemble 360,Rachel Roberts,Robert Plane
END:VEVENT
BEGIN:VEVENT
DTSTART;TZID=Europe/London:20221020T190000
DTEND;TZID=Europe/London:20221020T190000
DTSTAMP:20260424T224909
CREATED:20230706T152744Z
LAST-MODIFIED:20230706T152745Z
UID:3929-1666292400-1666292400@rachelrobertsviola.co.uk
SUMMARY:Sprotbrough Music Society: Yorkshire
DESCRIPTION:Robert Schumann: Adagio and Allegro\, op. 70Franz Schubert: Arpeggione Sonata in A minor\, D. 821 \nFranz Schubert: Ständchen\, from Schwanengesang\, D. 957Johannes Brahms: Sonata for Viola and Piano in E flat\, op. 120\, no. 2
URL:https://rachelrobertsviola.co.uk/concert/sprotbrough-music-society-yorkshire/
LOCATION:Hampshire
CATEGORIES:Rachel Roberts,Tim Horton
END:VEVENT
BEGIN:VEVENT
DTSTART;TZID=Europe/London:20221016T180000
DTEND;TZID=Europe/London:20221016T180000
DTSTAMP:20260424T224909
CREATED:20230706T152745Z
LAST-MODIFIED:20230706T152745Z
UID:3930-1665943200-1665943200@rachelrobertsviola.co.uk
SUMMARY:London Chamber Music Society: London
DESCRIPTION:Sergey Levitin\, violinRachel Roberts\, violaHetty Snell\, celloVictor Sangiorgio\, piano \nJoseph Haydn: Piano Trio no. 39 in G major Hob. XV:25\, GypsyPaul Lacombe: Piano Trio no.2 in E major\, op.90 Robert Schumann Piano: Quartet in E-flat major\, op.47
URL:https://rachelrobertsviola.co.uk/concert/london-chamber-music-society-london/
LOCATION:Kings Place\, London\, 90 York Way\, London\, N1 9AG\, England
CATEGORIES:Rachel Roberts
END:VEVENT
BEGIN:VEVENT
DTSTART;TZID=Europe/London:20220923T190000
DTEND;TZID=Europe/London:20220923T190000
DTSTAMP:20260424T224909
CREATED:20230706T152745Z
LAST-MODIFIED:20230706T152745Z
UID:3932-1663959600-1663959600@rachelrobertsviola.co.uk
SUMMARY:Music in the Round: Sheffield
DESCRIPTION:Max Bruch: 8 Pieces for clarinet\, cello and piano\, op. 83 (selection)Eleanor Alberga: Duo from Dancing with the ShadowHenri Vieuxtemps: Capriccio Hommage à Paganini in C minor for solo viola\, op. 55 (op. 9 posthumous)Wolfgang Amadeus Mozart: Trio for Clarinet\, Viola and Piano in E flat\, K. 498\, Kegelstatt
URL:https://rachelrobertsviola.co.uk/concert/music-in-the-round-sheffield-17/
LOCATION:Upper Chapel\, Norfolk Street\, Sheffield\, S1 2JD\, England
CATEGORIES:Ensemble 360,Rachel Roberts,Robert Plane,Tim Horton
END:VEVENT
END:VCALENDAR